BEGIN:VCALENDAR
VERSION:2.0
PRODID:-//wp-events-plugin.com//6.4.6.4//EN
TZID:Europe/Paris
X-WR-TIMEZONE:Europe/Paris
BEGIN:VEVENT
UID:1294@citefertile.com
DTSTART;TZID=Europe/Paris:20251101T180000
DTEND;TZID=Europe/Paris:20251101T220000
DTSTAMP:20251027T120356Z
URL:https://citefertile.com/events/akilmarket/
SUMMARY:Akil'market
DESCRIPTION:\n\n\n\n\n\n\n\n\n\n\n\n\n\nNotre week-end aux côtés du colle
 ctif @akilditu_collectif se prolongera au samedi aussi avec une installati
 on du Magik Market pour notre première à la cité fertile! \n\nQuoi de m
 ieux pour fêter nos 1ans… Eh oui\, déjà 1an!\nL’épicerie vous atte
 nd nombreux pour une soirée groovy\, funky and heavy \nBring your shoppin
 g bag!!!\n18h-23h30Entrée libre\n\n\n\n\n\n\n\n\n\n\n\n\n\n\n\n\n\n\n\n\n
 \n\n~~~~~~~ INFOS ~~~~~~~~\n\n📆 Samedi 1er novembre 2025\n🕖 18:00 - 
 23:30\n📍 14 Av. Edouard Vaillant\, 93500 Pantin\n🎟️ Entrée gratui
 te sur billetterie\n\n\n\n\n\n\n\n\n\n\n\n\n Quelques règles à respecter
  :\n- Le respect + la bienveillance : chacun.e se doit de se montrer respe
 ctueux.se envers autrui (les membres du staff\, les danseur.euses\, le voi
 sinage)\, de prendre soin de soi et des autres\n- La liberté : chacun.e d
 oit se sentir libre d’être qui iel est\, de s’amuser sans être embê
 té.e\n- La tolérance : qu’ici soit prônée la diversité ! L’ouvert
 ure n’est pas une option\, tous les genres\, tout.e.s les ethnies\, tou.
 te.s les religions sont les bienvenu.e.s\n- La sécurité : chacun.e est t
 enu.e à veiller à la sécurité de tou.te.sNous nous réservons le droit
  de refuser l’entrée/d’exclure toute personne qui ne respecterait pas
  nos valeurs afin de préserver notre public.\n\n Site accessible aux pers
 onnes à mobilité réduite\n
ATTACH;FMTTYPE=image/jpeg:https://citefertile.com/wp-content/uploads/2025/
 10/FB-SHOTGUN-AKILMARKET.jpg
END:VEVENT
BEGIN:VTIMEZONE
TZID:Europe/Paris
X-LIC-LOCATION:Europe/Paris
BEGIN:STANDARD
DTSTART:20251026T020000
TZOFFSETFROM:+0200
TZOFFSETTO:+0100
TZNAME:CET
END:STANDARD
END:VTIMEZONE
END:VCALENDAR