BEGIN:VCALENDAR
VERSION:2.0
PRODID:-//wp-events-plugin.com//6.4.6.4//EN
TZID:Europe/Paris
X-WR-TIMEZONE:Europe/Paris
BEGIN:VEVENT
UID:1284@citefertile.com
DTSTART;TZID=Europe/Paris:20251109T140000
DTEND;TZID=Europe/Paris:20251109T220000
DTSTAMP:20251017T091955Z
URL:https://citefertile.com/events/area-live-edition/
SUMMARY:Area Live Edition
DESCRIPTION:\n\n\n\n\n\n\n\n\n\n\n\n\n\n\n\n\n🎛 AREA LIVE EDITION : CLUB
  DE JOUR\n\n🎛 Le 9 novembre\, on prend racine à la Cité Fertile pour 
 la toute première fois dans un format après-midi. Une édition pensée a
 utour du LIVE\, pour partager la musique autrement\, ensemble\, à la lumi
 ère du jour. Avec une line up toujours plus éclectique à l’image d’
 AREA.\n\n📅 RDV le dimanche 9 novembre\n⌚ De 14h à 22h\n\n\n\n\n\n
 🔊 Line Up 🔊\nM***S\nA E R E A (live)\nAbr. (live)\nASAYA\nJAËSS AN
 D THE ROBOTS (live)\nDJ CONTEST\n\n\n\n\n\n\n\n\n\n\n\n\n\n\n\n\n\n\n\n~~~
 ~~~~ INFOS ~~~~~~~~\n\n📆 Dimanche 9 novembre 2025\n🕖 14h-22h\n📍 1
 4 Av. Edouard Vaillant\, 93500 Pantin\n🎟️ Billetterie\n\n\n\n\n\n\n\n
 \n\n\n\n\n Quelques règles à respecter :\n- Le respect + la bienveillanc
 e : chacun.e se doit de se montrer respectueux.se envers autrui (les membr
 es du staff\, les danseur.euses\, le voisinage)\, de prendre soin de soi e
 t des autres\n- La liberté : chacun.e doit se sentir libre d’être qui 
 iel est\, de s’amuser sans être embêté.e\n- La tolérance : qu’ici 
 soit prônée la diversité ! L’ouverture n’est pas une option\, tous 
 les genres\, tout.e.s les ethnies\, tou.te.s les religions sont les bienve
 nu.e.s\n- La sécurité : chacun.e est tenu.e à veiller à la sécurité 
 de tou.te.sNous nous réservons le droit de refuser l’entrée/d’exclur
 e toute personne qui ne respecterait pas nos valeurs afin de préserver no
 tre public.\n\n Site accessible aux personnes à mobilité réduite\n
ATTACH;FMTTYPE=image/jpeg:https://citefertile.com/wp-content/uploads/2025/
 10/FB_Banner-2.jpg
END:VEVENT
BEGIN:VTIMEZONE
TZID:Europe/Paris
X-LIC-LOCATION:Europe/Paris
BEGIN:STANDARD
DTSTART:20251026T020000
TZOFFSETFROM:+0200
TZOFFSETTO:+0100
TZNAME:CET
END:STANDARD
END:VTIMEZONE
END:VCALENDAR