BEGIN:VCALENDAR
VERSION:2.0
PRODID:-//wp-events-plugin.com//6.4.6.4//EN
TZID:Europe/Paris
X-WR-TIMEZONE:Europe/Paris
BEGIN:VEVENT
UID:1308@citefertile.com
DTSTART;TZID=Europe/Paris:20251128T180000
DTEND;TZID=Europe/Paris:20251128T194500
DTSTAMP:20251124T145924Z
URL:https://citefertile.com/events/atelier-couronne-de-noel-diy/
SUMMARY:Atelier Couronne de Noël DIY
DESCRIPTION:\n\n\n\n\n\n\n\n\n\n\n\n🌟Les Pauses Florales : Atelier Couro
 nne de Noël\n\n\nRejoignez Leaf &amp\; Stem\, animé par Jo\, fleuriste e
 t floricultrice\, pour un moment chaleureux\, créatif et placé sous le s
 igne de la pleine conscience. Ouvert à tous\, cet atelier s’adresse aux
  adultes\, quel que soit leur niveau en loisirs créatifs.\nTout le matér
 iel est fourni\, et Jo vous accompagnera pas à pas dans la réalisation d
 ’une couronne à offrir ou à suspendre fièrement chez vous.\nTout le f
 euillage et toutes les fleurs sont locaux et cultivés de manière respons
 able. Les bases de couronne sont réutilisables et recyclables : vous pour
 rez donc réaliser la vôtre l’année prochaine… et toutes les années
  qui suivront !\nCet atelier de 1h45 comprend une courte pause\, pendant l
 aquelle le bar et les stands de street-food de La Cité Fertile seront ouv
 erts pour toutes vos envies de gourmandises festives.\n\nRejoignez-nous à
  La Cité Fertile pour un joli moment de création et offrez-vous une pare
 nthèse dans le tourbillon des fêtes. Nous avons hâte de vous accueillir
 !\nHoraire : 18h00–19h45 (avec une pause de 15 minutes)\n\nInclus dans l
 ’atelier :• 1h30 d’accompagnement par une fleuriste expérimentée e
 t bienveillante• Tout le matériel durable nécessaire à la réalisatio
 n de votre couronne• Une ambiance chaleureuse et encourageante• Votre 
 jolie création à emporter chez vous Jo peut animer l’atelier en franç
 ais comme en anglais.\nTarif : 55 € par personne\, ou 50 € par personn
 e pour une réservation de deux places ou plus.\nParticiper à nos atelier
 s\, c’est soutenir les artisans locaux\, les producteurs de fleurs de la
  région et la planète.Tous les bénéfices de cet atelier contribueront 
 au financement d’une serre pour notre micro-ferme florale à Pantin.\nBI
 LLETTERIE: https://my.weezevent.com/les-pauses-florales-atelier-diy...\n\n
 \n\n\n\n\n\n\n\n\n\n\n\n\n\n\n\n\n\n\n\n~~~~~~~ INFOS ~~~~~~~~\n\n📆 Ven
 dredi 28 novembre 2025\n🕖 18:00 - 19:45\n📍 14 Av. Edouard Vaillant\,
  93500 Pantin\n\n\n\n\n\n\n\n\n\n\n\n\n Quelques règles à respecter :\n-
  Le respect + la bienveillance : chacun.e se doit de se montrer respectueu
 x.se envers autrui (les membres du staff\, les danseur.euses\, le voisinag
 e)\, de prendre soin de soi et des autres\n- La liberté : chacun.e doit s
 e sentir libre d’être qui iel est\, de s’amuser sans être embêté.e
 \n- La tolérance : qu’ici soit prônée la diversité ! L’ouverture n
 ’est pas une option\, tous les genres\, tout.e.s les ethnies\, tou.te.s 
 les religions sont les bienvenu.e.s\n- La sécurité : chacun.e est tenu.e
  à veiller à la sécurité de tou.te.sNous nous réservons le droit de r
 efuser l’entrée/d’exclure toute personne qui ne respecterait pas nos 
 valeurs afin de préserver notre public.\n\n Site accessible aux personnes
  à mobilité réduite\n
ATTACH;FMTTYPE=image/jpeg:https://citefertile.com/wp-content/uploads/2025/
 11/587443742_1369291681559386_3277434592752320935_n.jpg
END:VEVENT
BEGIN:VTIMEZONE
TZID:Europe/Paris
X-LIC-LOCATION:Europe/Paris
BEGIN:STANDARD
DTSTART:20251026T020000
TZOFFSETFROM:+0200
TZOFFSETTO:+0100
TZNAME:CET
END:STANDARD
END:VTIMEZONE
END:VCALENDAR