BEGIN:VCALENDAR
VERSION:2.0
PRODID:-//wp-events-plugin.com//6.4.6.4//EN
TZID:Europe/Paris
X-WR-TIMEZONE:Europe/Paris
BEGIN:VEVENT
UID:1315@citefertile.com
DTSTART;TZID=Europe/Paris:20251206T140000
DTEND;TZID=Europe/Paris:20251206T154500
DTSTAMP:20251202T102740Z
URL:https://citefertile.com/events/atelier-couronne-de-noel-en-famille/
SUMMARY:Atelier Couronne de Noël en famille
DESCRIPTION:\n\n\n\n\n\n\n\n\n\n\n\n🌟Les Pauses Florales : Atelier Couro
 nne de Noël\n\n\n\nRejoignez Leaf &amp\; Stem\, animé par Jo\, fleuriste
  et floricultrice passionnée\, pour un moment chaleureux\, créatif et pl
 acé sous le signe de la pleine conscience à vivre en famille.\nPensé po
 ur les duos parent/enfant (à partir de 12 ans)\, cet atelier vous invite 
 à créer ensemble une couronne de Noël 100% biodégradable\, à quatre m
 ains. Tout le matériel est fourni\, et Jo vous accompagnera pas à pas da
 ns la réalisation d’une couronne unique\, à offrir ou à suspendre fi
 èrement chez vous.\n\nCe sera également l’occasion de partager un mome
 nt privilégié et de créer de beaux souvenirs ensemble\, autour d’une 
 activité douce et créative.\n\nTout le feuillage et toutes les fleurs so
 nt locaux et cultivés de manière responsable. Les bases de couronne sont
  entièrement biodégradables : une création respectueuse de la nature et
  du cycle des saisons.\n\nCet atelier de 1h45 comprend une courte pause\, 
 pendant laquelle le bar et les stands de street-food de La Cité Fertile s
 eront ouverts pour toutes vos envies de gourmandises festives.\n\nRejoigne
 z-nous à La Cité Fertile pour un joli moment de création en famille et 
 offrez-vous une parenthèse douce et complice dans le tourbillon des fête
 s. Nous avons hâte de vous accueillir !\n\nBilletterie: https://my.weeze
 vent.com/les-pauses-florales-en-famille\n\n \n\n\n\n\n\n\n\n\n\n\n\n\n\n\
 n\n\n\n\n\n\n\n\n~~~~~~~ INFOS ~~~~~~~~\n\n📆 Samedi 6 décembre 2025\n
 🕖 14:00 - 15:45\n📍 14 Av. Edouard Vaillant\, 93500 Pantin\n\n\n\n\n\
 n\n\n\n\n\n\n\n Quelques règles à respecter :\n- Le respect + la bienvei
 llance : chacun.e se doit de se montrer respectueux.se envers autrui (les 
 membres du staff\, les danseur.euses\, le voisinage)\, de prendre soin de 
 soi et des autres\n- La liberté : chacun.e doit se sentir libre d’être
  qui iel est\, de s’amuser sans être embêté.e\n- La tolérance : qu
 ’ici soit prônée la diversité ! L’ouverture n’est pas une option\
 , tous les genres\, tout.e.s les ethnies\, tou.te.s les religions sont les
  bienvenu.e.s\n- La sécurité : chacun.e est tenu.e à veiller à la séc
 urité de tou.te.sNous nous réservons le droit de refuser l’entrée/d
 ’exclure toute personne qui ne respecterait pas nos valeurs afin de pré
 server notre public.\n\n Site accessible aux personnes à mobilité rédui
 te\n
ATTACH;FMTTYPE=image/jpeg:https://citefertile.com/wp-content/uploads/2025/
 12/Green-Yellow-Organic-Illustrative-Gardening-Workshop-Poster-1-e17646711
 78765.jpg
END:VEVENT
BEGIN:VTIMEZONE
TZID:Europe/Paris
X-LIC-LOCATION:Europe/Paris
BEGIN:STANDARD
DTSTART:20251026T020000
TZOFFSETFROM:+0200
TZOFFSETTO:+0100
TZNAME:CET
END:STANDARD
END:VTIMEZONE
END:VCALENDAR