BEGIN:VCALENDAR
VERSION:2.0
PRODID:-//wp-events-plugin.com//6.4.6.4//EN
TZID:Europe/Paris
X-WR-TIMEZONE:Europe/Paris
BEGIN:VEVENT
UID:1293@citefertile.com
DTSTART;TZID=Europe/Paris:20251030T110000
DTEND;TZID=Europe/Paris:20251030T120000
DTSTAMP:20251027T113126Z
URL:https://citefertile.com/events/atelier-de-boxe-adaptee-pour-les-senior
 s-7/
SUMMARY:Atelier de boxe adaptée pour les seniors
DESCRIPTION:L’association Moove Toi met en place\, en partenariat avec la
  Cité Fertile\, des ateliers de boxe adaptée à destination des seniors.
 \n\nVenez retrouver Sterenn\, Enseignante en Activité Physique Adaptée (
 APA)\, pour un atelier de boxe adaptée afin de travailler à la fois votr
 e coordination\, votre équilibre et renforcer l’ensemble de votre muscu
 lature de manière ludique et stimulante.\n\n\n\nCombien ça coûte ? : se
 ulement 5€ l’atelier d’une heure\nComment s’inscrire ? : Par mail 
 ou par téléphone : sterenn@moovetoi.fr / 07 56 82 06 70
ATTACH;FMTTYPE=image/jpeg:https://citefertile.com/wp-content/uploads/2023/
 10/Capture-decran-2023-10-11-a-19.20.44-min.png
END:VEVENT
BEGIN:VTIMEZONE
TZID:Europe/Paris
X-LIC-LOCATION:Europe/Paris
BEGIN:STANDARD
DTSTART:20251026T020000
TZOFFSETFROM:+0200
TZOFFSETTO:+0100
TZNAME:CET
END:STANDARD
END:VTIMEZONE
END:VCALENDAR