BEGIN:VCALENDAR
VERSION:2.0
PRODID:-//wp-events-plugin.com//6.4.6.4//EN
TZID:Europe/Paris
X-WR-TIMEZONE:Europe/Paris
BEGIN:VEVENT
UID:1287@citefertile.com
DTSTART;TZID=Europe/Paris:20251115T173000
DTEND;TZID=Europe/Paris:20251115T193000
DTSTAMP:20251024T132744Z
URL:https://citefertile.com/events/atelier-et-si-tu-donnais-vie-a-tes-reve
 s/
SUMMARY:Atelier : Et si tu donnais vie à tes rêves ?
DESCRIPTION:\n\n\n\n\n\n\n\n\n\n\n\n\n🌿 Et si tu prenais le temps d’
 écouter ce qui te fait vibrer ?\n\nTu as des intuitions\, des projets\
 , des envies\, des folies qui te trottent dans la tête et te tiennent à
  cœur ?\n\nTu souhaites clarifier ce qui t’anime et enfin passer à l
 ’action ? Tu souhaites embellir ton quotidien en réalisant tes envies ?
 \n\nrivière t’invite à ouvrir une parenthèse douce et lumineuse pour
  te reconnecter à ce qui t’anime vraiment.\nIci\, pas de "petits rêves
 " ni d’objectifs inaccessibles : juste l’envie sincère de donner vie 
 à ce qui te met en joie et te relie aux autres.\n\nApprendre une langue\,
  préparer une aventure\, lancer un projet créatif ou pro\, se former\, r
 éinventer le monde à ton image\, t'engager dans une asso\, transmettre c
 e que tu sais…\n\n🎯 Notre mission ?\nConscientiser tes rêves. T'aid
 er à rendre tes rêves accessibles et concrets.\nComment ? En leur redonn
 ant une vraie place dans ton quotidien sans tout bouleverser et en t’acc
 ompagnant pour te mettre en action\n\n✨ Un atelier de 2h pour faire le 
 premier pas\nSeul·e\, entre ami·es\, en famille ou en couple – à vous
  de choisir !\n\n&nbsp\;\n\n~~~~~~~ INFOS ~~~~~~~~\n\n&nbsp\;\n\n🕓 Qua
 nd ? 15 novembre de 17h30 – 19h30\n📍 Où ? Cité Fertile\n💸 Pri
 x libre – Valeur estimée : 30€\n👥 Places limitées\, inscris toi 
 via ce lien.\n\nPour toutes questions ou pour les suivre :\n\n📲 Retrou
 ve-les sur Instagram : @rivieredereves\n📧 Ou par mail : riviere.re
 ves@gmail.com\n\n&nbsp\;\n\n\n\n\n\n\n\n\n\n\n\n\n
ATTACH;FMTTYPE=image/jpeg:https://citefertile.com/wp-content/uploads/2025/
 10/riviere-cite-fertile-15-nov-horizontal-.jpg
END:VEVENT
BEGIN:VTIMEZONE
TZID:Europe/Paris
X-LIC-LOCATION:Europe/Paris
BEGIN:STANDARD
DTSTART:20251026T020000
TZOFFSETFROM:+0200
TZOFFSETTO:+0100
TZNAME:CET
END:STANDARD
END:VTIMEZONE
END:VCALENDAR