BEGIN:VCALENDAR
VERSION:2.0
PRODID:-//wp-events-plugin.com//6.4.6.4//EN
TZID:Europe/Paris
X-WR-TIMEZONE:Europe/Paris
BEGIN:VEVENT
UID:837@citefertile.com
DTSTART;TZID=Europe/Paris:20250802T120000
DTEND;TZID=Europe/Paris:20250803T220000
DTSTAMP:20250709T122841Z
URL:https://citefertile.com/events/bellatam-pop-up-latino-a-la-cite-fertil
 e/
SUMMARY:BELLATAM – Pop-up Latino à la Cité Fertile
DESCRIPTION:\n\n\n\n\n\n\n\n\n\n\nLOLAB x BELLACOSO. présentent BELLATAM\,
  un week-end festif\, coloré et engagé à la Cité Fertile 🌞\n\nDeux 
 jours pour célébrer la richesse des cultures latino-américaines à trav
 ers :\n🛍 Un marché artisanal de créateur·ices latino·américain·es
 \n🎨 Expositions et arts plastiques\n👩🏽‍🏫 Ateliers participat
 ifs (yoga\, piñatas\, symbologie mexicaine\, etc.)\n🎧 DJ sets\n🍴 Fo
 od court aux saveurs latines\n👨‍👩‍👧 Animations pour petit.e.s
  et grand.e.s\n➡️ Certains ateliers nécessitent une réservation paya
 nte\, liens &gt\;&gt\; ICI\n\n\n\n\n\n\n\n\n\n~~~~~~~ INFOS ~~~~~~~~\n\n
 📆 Samedi - Dimanche 2 et 3 août 2025\n🕖 12h – 22h\n📍 14 Av. Ed
 ouard Vaillant\, 93500 Pantin\n🎟️ Entrée gratuite sur billetterie\n\
 n\n\n\n---------------------------------\n\n\n\n Quelques règles à respe
 cter :\n- Le respect + la bienveillance : chacun.e se doit de se montrer r
 espectueux.se envers autrui (les membres du staff\, les danseur.euses\, le
  voisinage)\, de prendre soin de soi et des autres\n- La liberté : chacun
 .e doit se sentir libre d’être qui iel est\, de s’amuser sans être e
 mbêté.e\n- La tolérance : qu’ici soit prônée la diversité ! L’ou
 verture n’est pas une option\, tous les genres\, tout.e.s les ethnies\, 
 tou.te.s les religions sont les bienvenu.e.s\n- La sécurité : chacun.e e
 st tenu.e à veiller à la sécurité de tou.te.sNous nous réservons le d
 roit de refuser l’entrée/d’exclure toute personne qui ne respecterait
  pas nos valeurs afin de préserver notre public.\n\n Site accessible aux 
 personnes à mobilité réduite\n
ATTACH;FMTTYPE=image/jpeg:https://citefertile.com/wp-content/uploads/2025/
 07/IMG_Afiche_horizontal_dsleef.jpg
END:VEVENT
BEGIN:VTIMEZONE
TZID:Europe/Paris
X-LIC-LOCATION:Europe/Paris
BEGIN:DAYLIGHT
DTSTART:20250330T030000
TZOFFSETFROM:+0100
TZOFFSETTO:+0200
TZNAME:CEST
END:DAYLIGHT
END:VTIMEZONE
END:VCALENDAR