BEGIN:VCALENDAR
VERSION:2.0
PRODID:-//wp-events-plugin.com//6.4.6.4//EN
TZID:Europe/Paris
X-WR-TIMEZONE:Europe/Paris
BEGIN:VEVENT
UID:1274@citefertile.com
DTSTART;TZID=Europe/Paris:20251004T140000
DTEND;TZID=Europe/Paris:20251005T013000
DTSTAMP:20250916T160553Z
URL:https://citefertile.com/events/catharsis-nyx-festival/
SUMMARY:Catharsis Nyx festival
DESCRIPTION:\n\n\n\n\n\n\n\n\n\n\n\nCatharsis Nyx\, c’est la symbiose tan
 t recherchée entre la fête\, la danse et le théâtre !\nSi tu hésitais
  entre aller voir un show de danse\, un concert\, une pièce de théâtre 
 ou aller turn up sur du gros son\, n'hésite plus !! Catharsis c'est tout 
 ça en même temps !! et c'est gratuit !!\n\nRendez-vous Samedi 4 Octobre 
 2025\, de 14h00 à 01h30\, à la légendaire Cité Fertile !\n\n\n\n\n\n
 ▬▬▬▬▬ Au programme ▬▬▬▬▬\n⚡Un gigantesque lieu\n🎭
  Des ateliers (impro\, salsa\, clown\, marionnettes…)\n🎷Des concerts 
 (jam jazz\, EDR...)\n💥​Des performances de plus de 50 artistes\n🪩U
 n DJ en open air pour faire trembler tout ça\n\n\n\n\n\n\n\n\n~~~~~~~ INF
 OS ~~~~~~~~\n\n📆 Samedi 4 octobre 2025\n🕖 14h00-01h30\n📍 14 Av. E
 douard Vaillant\, 93500 Pantin\n🎟️ Entrée gratuite sur billetterie\n
 \n\n\n\n---------------------------------\n\n\n\n Quelques règles à resp
 ecter :\n- Le respect + la bienveillance : chacun.e se doit de se montrer 
 respectueux.se envers autrui (les membres du staff\, les danseur.euses\, l
 e voisinage)\, de prendre soin de soi et des autres\n- La liberté : chacu
 n.e doit se sentir libre d’être qui iel est\, de s’amuser sans être 
 embêté.e\n- La tolérance : qu’ici soit prônée la diversité ! L’o
 uverture n’est pas une option\, tous les genres\, tout.e.s les ethnies\,
  tou.te.s les religions sont les bienvenu.e.s\n- La sécurité : chacun.e 
 est tenu.e à veiller à la sécurité de tou.te.sNous nous réservons le 
 droit de refuser l’entrée/d’exclure toute personne qui ne respecterai
 t pas nos valeurs afin de préserver notre public.\n\n Site accessible aux
  personnes à mobilité réduite\n
ATTACH;FMTTYPE=image/jpeg:https://citefertile.com/wp-content/uploads/2025/
 09/547855468_122181606986330003_4057769467294257881_n.jpg
END:VEVENT
BEGIN:VTIMEZONE
TZID:Europe/Paris
X-LIC-LOCATION:Europe/Paris
BEGIN:DAYLIGHT
DTSTART:20250330T030000
TZOFFSETFROM:+0100
TZOFFSETTO:+0200
TZNAME:CEST
END:DAYLIGHT
END:VTIMEZONE
END:VCALENDAR