BEGIN:VCALENDAR
VERSION:2.0
PRODID:-//wp-events-plugin.com//6.4.6.4//EN
TZID:Europe/Paris
X-WR-TIMEZONE:Europe/Paris
BEGIN:VEVENT
UID:842@citefertile.com
DTSTART;TZID=Europe/Paris:20250829T200000
DTEND;TZID=Europe/Paris:20250829T220000
DTSTAMP:20250728T094734Z
URL:https://citefertile.com/events/chorale-de-meufs-2/
SUMMARY:Chorale de meufs
DESCRIPTION:\n\n\n\n\n\n\n\n\n\n\n\n🎤 Le 29 août La Chorale de meufs sq
 uatte la Cité fertile (et invite les mecs) ! \nLa chorale de meufs c'est
  quoi ? Ce sont des chorales éphémères. En gros\, on vient quand on veu
 t\, quand on peut. C'est sans engagement. Il suffit d'aimer chanter et de 
 prendre un billet.\nOn chante deux heures avec un et/ou une chef.fe de ch
 œur des chansons que tout le monde connaît. On apprend une ou deux voix.
  Entre femmes la plupart du temps\, comme son nom l’indique. Mais pour c
 ette date là\, nous invitons les hommes à chanter avec nous !\nC’est t
 rès joyeux\, sororal\, vibrant\, et ça fait beaucoup de bien.\nAlors ven
 ez pousser de la voix avec nous. \n\n\n\n\n\n\n\n\n\n\n\n~~~~~~~ INFOS ~~
 ~~~~~~\n\n📆 Vendredi 29 août 2025\n🕖 20h – 22h\n📍 14 Av. Edoua
 rd Vaillant\, 93500 Pantin\n🎟️ Entrée sur billetterie\n\n\n\n\n-----
 ----------------------------\n\n\n\n Quelques règles à respecter :\n- Le
  respect + la bienveillance : chacun.e se doit de se montrer respectueux.s
 e envers autrui (les membres du staff\, les danseur.euses\, le voisinage)\
 , de prendre soin de soi et des autres\n- La liberté : chacun.e doit se s
 entir libre d’être qui iel est\, de s’amuser sans être embêté.e\n-
  La tolérance : qu’ici soit prônée la diversité ! L’ouverture n’
 est pas une option\, tous les genres\, tout.e.s les ethnies\, tou.te.s les
  religions sont les bienvenu.e.s\n- La sécurité : chacun.e est tenu.e à
  veiller à la sécurité de tou.te.sNous nous réservons le droit de refu
 ser l’entrée/d’exclure toute personne qui ne respecterait pas nos val
 eurs afin de préserver notre public.\n\n Site accessible aux personnes à
  mobilité réduite\n
ATTACH;FMTTYPE=image/jpeg:https://citefertile.com/wp-content/uploads/2025/
 07/COVER-1920X1080.png
END:VEVENT
BEGIN:VTIMEZONE
TZID:Europe/Paris
X-LIC-LOCATION:Europe/Paris
BEGIN:DAYLIGHT
DTSTART:20250330T030000
TZOFFSETFROM:+0100
TZOFFSETTO:+0200
TZNAME:CEST
END:DAYLIGHT
END:VTIMEZONE
END:VCALENDAR