BEGIN:VCALENDAR
VERSION:2.0
PRODID:-//wp-events-plugin.com//6.4.6.4//EN
TZID:Europe/Paris
X-WR-TIMEZONE:Europe/Paris
BEGIN:VEVENT
UID:1291@citefertile.com
DTSTART;TZID=Europe/Paris:20251213T120000
DTEND;TZID=Europe/Paris:20251214T190000
DTSTAMP:20251028T103322Z
URL:https://citefertile.com/events/cite-de-noel-6/
SUMMARY:Cité de Noël
DESCRIPTION:La Cité de Noël\, le village de Noël XXL à la Cité Fertile
 \n❄️🎅🎄🎁 LA CITÉ DE NOËL\, LE VILLAGE DE NOËL XXL DE LA CIT
 É FERTILE - TOUS LES WEEK-ENDS DU 22 NOVEMBRE AU 21 DÉCEMBRE\nCadeaux in
 solites\, maxi espace de jeu\, cabane du Père Noël\, ateliers\, animatio
 ns festives\, performances musicales\, streetfood &amp\; buvette d'hiver\n
 —————————\n🎄 Vous l’attendiez… nous aussi ! 🎅V
 enez vivre une expérience de Noël unique au cœur d’une ancienne gare 
 SNCF métamorphosée en véritable village féerique.\n✨ 5 week-ends de 
 fête non-stop !La Cité Fertile revêt ses habits de lumière et se trans
 forme en village de Noël XXL\, pour le plus grand bonheur des petits comm
 e des grands.\nPlongez dans la magie des fêtes et vivez un Noël festif\,
  solidaire et enchanteur\, où chaque instant rime avec partage et émerve
 illement.\n—————————\nAU PROGRAMME\n🎄 Des marchés de
  Noël avec plus de 80 exposant·e·s différent·e·s chaque week-end : c
 réateur·ice·s\, artisan·e·s et producteurs locaux pour dénicher des 
 cadeaux uniques et responsables. Le programme des marchés de Noël de cha
 que week-end par ici &gt\;&gt\; ICI\n✨ La Cabane du Père Noël\, une œ
 uvre artistique et participative où chacun peut déposer ses vœux pour l
 a nouvelle année.\n❄️ Un espace cocooning pour se détendre et vous r
 eposer avant les fêtes.\n👨‍👩‍👧 Un maxi espace jeux pour amus
 er petit·e·s et grand·e·s\, avec un coin dédié à la mobilité des t
 out-petit.e.s.\n🎨 Des expositions et ateliers pour vous en mettre plein
  la vue.\n🍲 Des stands de street food\, bar à vin chaud\, buvette\, et
  un brunch libanais pour régaler toutes les papilles.\n🥁 Des performan
 ces festives : concerts\, spectacles\, danses\, performances et musiques !
 \n🎅 Un Noël féérique\, local et solidaire vous attend à la Cité Fe
 rtile ❤️\n&nbsp\;\n—————————\n🎁\nPLUS D'INFOS SUR
  LA CITÉ DE NOËL\n&gt\;&gt\; Par ici\n🎟️ ENTRÉE LIBRE SUR LE SITE\
 n—————————\n👉INFORMATIONS PRATIQUES\n🚲 Comment ven
 ir ?\nRER E Pantin (4 minutes à pieds)\nMétro Quatre Chemins – ligne 7
  (8 minutes à pieds) et Métro Hoche – ligne 5 (10 minutes à pieds)\nT
 ram 3 Ella Fitzgerald (5 minutes à pieds)\nBus 170\, 249\, 330 arrêt Jea
 n Moulin\nParking à vélo à l’entrée du site.\nPas de parking voiture
 s.\nParking PSH sur le site de la Cité Fertile.
ATTACH;FMTTYPE=image/jpeg:https://citefertile.com/wp-content/uploads/2025/
 10/Banniere-Noel.png
END:VEVENT
BEGIN:VTIMEZONE
TZID:Europe/Paris
X-LIC-LOCATION:Europe/Paris
BEGIN:STANDARD
DTSTART:20251026T020000
TZOFFSETFROM:+0200
TZOFFSETTO:+0100
TZNAME:CET
END:STANDARD
END:VTIMEZONE
END:VCALENDAR