BEGIN:VCALENDAR
VERSION:2.0
PRODID:-//wp-events-plugin.com//6.4.6.4//EN
TZID:Europe/Paris
X-WR-TIMEZONE:Europe/Paris
BEGIN:VEVENT
UID:840@citefertile.com
DTSTART;TZID=Europe/Paris:20250823T150000
DTEND;TZID=Europe/Paris:20250824T013000
DTSTAMP:20250728T092657Z
URL:https://citefertile.com/events/club-de-jour-specimen/
SUMMARY:Club de jour Specimen
DESCRIPTION:\n\n\n\n\n\n\n\n\n\n\n▰▰ 𝗖𝗟𝗨𝗕 𝗗𝗘 𝗝𝗢
 𝗨𝗥\nSPECIMEN débarque à La Cité Fertile en format Club de Jour po
 ur 10H30 de communion festive autour d’une programmation XXL et une scé
 nographie envoutante. Pour cette édition spéciale\, on a pensé une prog
 rammation qui ne nous laissera pas une seconde de répit et qui nous emmè
 nera dans des explorations techno\, trance et bass au doux son de notre sy
 stème L-Acoustics.\n\n▰▰ 𝗖𝗢𝗡𝗖𝗘𝗣𝗧\nSPECIMEN un es
 pace de communion festive autour d'artistes aux esthétiques singulières.
  Pensée comme une expérience totale pour technophiles avertis\, SPECIMEN
  propose des programmations électroniques pointues et une scénographie l
 échée pour nous plonger dans une bulle immersive où nos sens sont nos s
 euls guides.\n\n▰▰ 𝗟𝗜𝗡𝗘-𝗨𝗣 -\nAmor Satyr B2B Maara [
 WAJANG / Ancient Records] ▸ Amor Satyr : https://www.instagram.com/amors
 atyr/\n▸ Maara : https://www.instagram.com/maaraluisa/ -\nJASSS [AWOS] 
 ▸ Soundcloud : https://soundcloud.com/jass-29 ▸ Instagram : https://ww
 w.instagram.com/jasss_inc/ - peachlyfe [Endurance / Fast Forward Productio
 ns] ▸ Soundcloud : https://soundcloud.com/peach-lyfe ▸ Instagram : htt
 ps://www.instagram.com/peachlyfe/\n- Raär [Omen Wapta / Electromenager] 
 ▸ Soundcloud : https://soundcloud.com/11pmraar ▸ Instagram : https://w
 ww.instagram.com/raar_v/\n\n\n\n\n\n\n\n\n~~~~~~~ INFOS ~~~~~~~~\n\n📆 S
 amedi 23 août 2025\n🕖 15h00 – 01h30\n📍 14 Av. Edouard Vaillant\, 
 93500 Pantin\n🎟️ Entrée sur billetterie\n\n\n\n\n-------------------
 --------------\n\n\n\n Quelques règles à respecter :\n- Le respect + la 
 bienveillance : chacun.e se doit de se montrer respectueux.se envers autru
 i (les membres du staff\, les danseur.euses\, le voisinage)\, de prendre s
 oin de soi et des autres\n- La liberté : chacun.e doit se sentir libre d
 ’être qui iel est\, de s’amuser sans être embêté.e\n- La toléranc
 e : qu’ici soit prônée la diversité ! L’ouverture n’est pas une o
 ption\, tous les genres\, tout.e.s les ethnies\, tou.te.s les religions so
 nt les bienvenu.e.s\n- La sécurité : chacun.e est tenu.e à veiller à l
 a sécurité de tou.te.sNous nous réservons le droit de refuser l’entr
 ée/d’exclure toute personne qui ne respecterait pas nos valeurs afin de
  préserver notre public.\n\n Site accessible aux personnes à mobilité r
 éduite\n
ATTACH;FMTTYPE=image/jpeg:https://citefertile.com/wp-content/uploads/2025/
 07/SPECIMEN-03_VF_EVENT-SHOTGUN_05_vgsal3-2.jpg
END:VEVENT
BEGIN:VTIMEZONE
TZID:Europe/Paris
X-LIC-LOCATION:Europe/Paris
BEGIN:DAYLIGHT
DTSTART:20250330T030000
TZOFFSETFROM:+0100
TZOFFSETTO:+0200
TZNAME:CEST
END:DAYLIGHT
END:VTIMEZONE
END:VCALENDAR