BEGIN:VCALENDAR
VERSION:2.0
PRODID:-//wp-events-plugin.com//6.4.6.4//EN
TZID:Europe/Paris
X-WR-TIMEZONE:Europe/Paris
BEGIN:VEVENT
UID:1305@citefertile.com
DTSTART;TZID=Europe/Paris:20251205T180000
DTEND;TZID=Europe/Paris:20251206T000000
DTSTAMP:20251115T114855Z
URL:https://citefertile.com/events/club-humide-before/
SUMMARY:Club Humide - Before
DESCRIPTION:\n\n\n\n\n\n\n\n\n\n\n\nCLUB HUMIDE – BEFORE CELEBRATION PART
 Y\nLA CITÉ FERTILE – 5 DÉCEMBRE 2025 – 18H00 À 00H00\n\nL’hiver s
 ’est bien installé\, mais l’espoir est resté : l’espoir de suer et
  de transpirer dans une joie sans pareille\, de faire fondre la neige pos
 ée sur ta peau et de danser dans des flaques imaginaires jusqu’à ce qu
 e minuit sonne.\nPuisque la fête se fait aussi tôt dans la soirée\, on 
 t’invite encore une fois à la Cité Fertile pour un format entre sweet 
 house music et chaos drag queer.\n\nComme hôtesse de la night\, nous avon
 s invité La Grande Patricia\, figure iconique de nos nuits parisiennes\, 
 qui performera tout en t’entraînant dans un blind test 100 % humiiiiiii
 de !\nCôté DJ sets\, tu retrouveras les Siamo Tutti Antifascisti et INVE
 RTITI·E·S : Tru·e Normande et La Cathy-None (ou CatNone\, selon certain
 es sources) pour une pure énergie housy trancy apothéose \; et\, en ouve
 rture de soirée\, Lucifer pour passer du sirotage de bière à la descent
 e de ginto (ou de mocktails pour nos sober queens).\n\nL’événement est
  à prix libre (sans minimum conseillé — donc si t’es fauché·e de c
 hez fauché·e\, tu peux quand même danser\, bb !).\n\nLike any good quee
 r party :Consent is sexyKindness is sexyBoth are essential for everyone to
  have a great nightNo sexist\, no racist\, no LGBTQIA+phobic\, no fatphobi
 c\, no validist behaviors\nPhoto du visuel par Snow\n\n\n\n\n\n~~~~~~~ INF
 OS ~~~~~~~~\n🕦 18h - 00h\n📍 14 Av. Edouard Vaillant\, 93500 Pantin\n
 🎟️ Entrée gratuite sur inscription sur Shotgun\n\n\n\n\n\n----------
 -----------------------\n\n\n\n Quelques règles à respecter : - Le respe
 ct + la bienveillance : chacun.e se doit de se montrer respectueux.se enve
 rs autrui (les membres du staff\, les danseur.euses\, le voisinage)\, de p
 rendre soin de soi et des autres\n- La liberté : chacun.e doit se sentir 
 libre d’être qui iel est\, de s’amuser sans être embêté.e\n- La to
 lérance : qu’ici soit prônée la diversité ! L’ouverture n’est pa
 s une option\, tous les genres\, tout.e.s les ethnies\, tou.te.s les relig
 ions sont les bienvenu.e.s\n- La sécurité : chacun.e est tenu.e à veill
 er à la sécurité de tou.te.sNous nous réservons le droit de refuser l
 ’entrée/d’exclure toute personne qui ne respecterait pas nos valeurs 
 afin de préserver notre public.\n\n Site accessible au personnes à mobil
 ité réduite\n
ATTACH;FMTTYPE=image/jpeg:https://citefertile.com/wp-content/uploads/2025/
 11/CH_051225_SHOTGUN.jpg
END:VEVENT
BEGIN:VTIMEZONE
TZID:Europe/Paris
X-LIC-LOCATION:Europe/Paris
BEGIN:STANDARD
DTSTART:20251026T020000
TZOFFSETFROM:+0200
TZOFFSETTO:+0100
TZNAME:CET
END:STANDARD
END:VTIMEZONE
END:VCALENDAR