BEGIN:VCALENDAR
VERSION:2.0
PRODID:-//wp-events-plugin.com//6.4.6.4//EN
TZID:Europe/Paris
X-WR-TIMEZONE:Europe/Paris
BEGIN:VEVENT
UID:50@citefertile.com
DTSTART;TZID=Europe/Paris:20240309T150000
DTEND;TZID=Europe/Paris:20240310T010000
DTSTAMP:20240213T134254Z
URL:https://citefertile.com/events/club-pimp-ta-ride/
SUMMARY:CLUB PIMP TA RIDE
DESCRIPTION:Yoyoyo c’est Jason et t’es bien dans Pimp Ta Ride 👨🏻
 ‍🔧\nÀ la base on faisait dans l'dérapage\, puis on a excellé en bo
 rdel contrôlé. 2 ans plus tard vous allez jamais l'croire\, mais y a mê
 me un spot qui accepte de nous revoir…\n\nAlors\, qui se souvient de la 
 dernière ÉNORME ride à la 𝗖𝗶𝘁𝗲 𝗙𝗲𝗿𝘁𝗶𝗹𝗲
  ? Parce que nous pas de ouf. Après sur les vidéos ça avait l’air sym
 pa alors on s’est dit qu’on allait remettre ça\, t’en penses quoi ?
 \nTiens\, v'la nos stars qui débarquent bien peinard en side-car. Oui t
 ’as bien vu\, c’est le retour du grand 𝗗𝗼𝗻𝗻𝗶𝗲 aka Le
  Donuts et la première du poto 𝗔𝗺𝗮𝘂 alors attends toi à pass
 er un joli petit séjour dans le Kermesse World.\n\n———————
 ——\nLINE UP\n✦ Donnie\nhttps://soundcloud.com/ghettodonnie\n✦ Amau
 \nhttps://soundcloud.com/kermesseworld\n✦ Mooglee\nhttps://soundcloud.co
 m/mooglee1\n✦ Vahaäl\nhttps://soundcloud.com/vahaal\n\n—————
 ————\nFOOD &amp\; DRINKS\nBar et restauration sur place\n\n\n  BI
 LLETTERIE 
ATTACH;FMTTYPE=image/jpeg:https://citefertile.com/wp-content/uploads/2024/
 02/PTR7_Event_CF-scaled.jpg
END:VEVENT
BEGIN:VTIMEZONE
TZID:Europe/Paris
X-LIC-LOCATION:Europe/Paris
BEGIN:STANDARD
DTSTART:20231029T020000
TZOFFSETFROM:+0200
TZOFFSETTO:+0100
TZNAME:CET
END:STANDARD
END:VTIMEZONE
END:VCALENDAR