BEGIN:VCALENDAR
VERSION:2.0
PRODID:-//wp-events-plugin.com//6.4.6.4//EN
TZID:Europe/Paris
X-WR-TIMEZONE:Europe/Paris
BEGIN:VEVENT
UID:1279@citefertile.com
DTSTART;TZID=Europe/Paris:20251024T193000
DTEND;TZID=Europe/Paris:20251025T013000
DTSTAMP:20251014T143516Z
URL:https://citefertile.com/events/dj-set-deficit-asb/
SUMMARY:DJ set Deficit - ASB
DESCRIPTION:\n\n\n\n\n✨ SAVE THE DATE : 24.10.25 ✨\n\n\n\n\n\n\nDJ set 
 aux sonorités reggaeton\, tribe &amp\; techno.\nASB anti systeme blocage\
 n\nxxxxxx LINE UP xxxxxxx\n\nBraqsa\nSvawk\nC4pr1c0nn3\nMarguerite Marthe\
 n\n\n~~~~~~~ INFOS ~~~~~~~~\n📆 Vendredi 24 octobre 2025\n🕖 19h30-01h
 30\n📍 14 Av. Edouard Vaillant\, 93500 Pantin\n\n\n\n\n\n\n\n Billetteri
 e gratuite\n\n\n\n\n---------------------------------\n\n\n Quelques règl
 es à respecter : - Le respect + la bienveillance : chacun.e se doit de se
  montrer respectueux.se envers autrui (les membres du staff\, les danseur.
 euses\, le voisinage)\, de prendre soin de soi et des autres\n- La libert
 é : chacun.e doit se sentir libre d’être qui iel est\, de s’amuser s
 ans être embêté.e\n- La tolérance : qu’ici soit prônée la diversit
 é ! L’ouverture n’est pas une option\, tous les genres\, tout.e.s les
  ethnies\, tou.te.s les religions sont les bienvenu.e.s\n- La sécurité :
  chacun.e est tenu.e à veiller à la sécurité de tou.te.sNous nous rés
 ervons le droit de refuser l’entrée/d’exclure toute personne qui ne r
 especterait pas nos valeurs afin de préserver notre public.\n\n Site acce
 ssible au personnes à mobilité réduite\n
ATTACH;FMTTYPE=image/jpeg:https://citefertile.com/wp-content/uploads/2025/
 10/asbtest-1.png
END:VEVENT
BEGIN:VTIMEZONE
TZID:Europe/Paris
X-LIC-LOCATION:Europe/Paris
BEGIN:DAYLIGHT
DTSTART:20250330T030000
TZOFFSETFROM:+0100
TZOFFSETTO:+0200
TZNAME:CEST
END:DAYLIGHT
END:VTIMEZONE
END:VCALENDAR