BEGIN:VCALENDAR
VERSION:2.0
PRODID:-//wp-events-plugin.com//6.4.6.4//EN
TZID:Europe/Paris
X-WR-TIMEZONE:Europe/Paris
BEGIN:VEVENT
UID:1302@citefertile.com
DTSTART;TZID=Europe/Paris:20251129T170000
DTEND;TZID=Europe/Paris:20251129T230000
DTSTAMP:20251105T103633Z
URL:https://citefertile.com/events/dutyfrip-sidequest/
SUMMARY:DUTYFRIP - Sidequest
DESCRIPTION:\n\n\n\n\n\n\n\n\n\n\n\n\n\n\n\n★ ON FÊTE NOS 5 ANS ENSEMBLE
  ★\n\nOn célébre nos 5 ans et notre arrivée à Paris. Retrouve-nous l
 e 29 novembre pour un format mini-club à @ La Source pour fêter l'après
  marché de Noël solidaire de la Cité Fertile ! 🚨\n+ on invite SIDEQU
 EST pour leur PREMIER SHOW\n\n\n\n\n\n▬▬▬▬ AU PROGRAMME ▬▬▬
 ▬\n★ DJ SET\n★ EXPO\n★ MERCH\n★ BAR + FOOD\n★ more to come TBA
 \n\n\n\n\n\n☆★☆★☆ DJ SET / PREMIER SHOW ☆★☆★☆★ 🔉 
 SIDEQUEST (@sidequest.5) - - - - - DutyFrip invite SIDEQUEST\, un collecti
 f composé de cinq artistes issus de l’industrie musicale. Ensemble\, il
 s dévoileront leur premier DJ set\, un mélange d’influences\, d’éne
 rgies et de textures sonores qui promet une expérience riche\, organique 
 et énergique.\n\n★★★★★ EXPO ★★★★★\nDe Montréal à Pa
 ris une exposition qui célèbrera 5 années de collaborations\, d'expéri
 mentations\, de contenu\, d'histoires qui ont façonné cette aventure cr
 éative.\n\n\n★★★★★ MERCH ★★★★★\n➡️ SÉRIGRAPHIE L
 IVE ➡️ Apporte ton vêtement BYOT ➡️ Sacs upcyclés + Vêtements m
 ade in France imprimé à la main DSCLMR : DutyFrip rejette toute forme de
  discrimination et valorise le partage\, l’ouverture et le respect de ch
 acun·e.\n\n★ ★ ★ ON A TROP HÂTE\, À TRÈS VITE ★ ★ ★\n\n\n\
 n\n\n\n\n\n\n\n\n\n\n\n\n~~~~~~~ INFOS ~~~~~~~~\n\n📆 Samedi 29 novembre
  2025\n🕖 17h-23h30\n📍 14 Av. Edouard Vaillant\, 93500 Pantin\n🎟
 ️ Billetterie gratuite\n\n\n\n\n\n\n\n\n\n\n\n\n Quelques règles à res
 pecter :\n- Le respect + la bienveillance : chacun.e se doit de se montrer
  respectueux.se envers autrui (les membres du staff\, les danseur.euses\, 
 le voisinage)\, de prendre soin de soi et des autres\n- La liberté : chac
 un.e doit se sentir libre d’être qui iel est\, de s’amuser sans être
  embêté.e\n- La tolérance : qu’ici soit prônée la diversité ! L’
 ouverture n’est pas une option\, tous les genres\, tout.e.s les ethnies\
 , tou.te.s les religions sont les bienvenu.e.s\n- La sécurité : chacun.e
  est tenu.e à veiller à la sécurité de tou.te.sNous nous réservons le
  droit de refuser l’entrée/d’exclure toute personne qui ne respectera
 it pas nos valeurs afin de préserver notre public.\n\n Site accessible au
 x personnes à mobilité réduite\n
ATTACH;FMTTYPE=image/jpeg:https://citefertile.com/wp-content/uploads/2025/
 11/577899699_801477179426969_1455186252178194262_n.jpg
END:VEVENT
BEGIN:VTIMEZONE
TZID:Europe/Paris
X-LIC-LOCATION:Europe/Paris
BEGIN:STANDARD
DTSTART:20251026T020000
TZOFFSETFROM:+0200
TZOFFSETTO:+0100
TZNAME:CET
END:STANDARD
END:VTIMEZONE
END:VCALENDAR