BEGIN:VCALENDAR
VERSION:2.0
PRODID:-//wp-events-plugin.com//6.4.6.4//EN
TZID:Europe/Paris
X-WR-TIMEZONE:Europe/Paris
BEGIN:VEVENT
UID:1325@citefertile.com
DTSTART;TZID=Europe/Paris:20260124T180000
DTEND;TZID=Europe/Paris:20260125T000000
DTSTAMP:20251223T161424Z
URL:https://citefertile.com/events/fairy-tale-chapter-9/
SUMMARY:Fairy tale chapter 9
DESCRIPTION:\n\n\n\n\n\n\n\n\n\n\n\n\n\n\n🪅 Samedi 24 Janvier - 18:00 / 
 00:00\n\nFAIRY TALE CHAPTER 9\n\nWhat A Fairy Tale débarque pour la premi
 ère fois à la Cité Fertile pour une soirée house to techno. Un nouveau
  fairy tale\, à vivre toute la nuit.\n\nLINE UP :\n\n🧚‍♀️ VOID M
 ETHOD\n\n🧚‍♀️ HAÜT\n\n🧚‍♀️ CED7\n\n🧚‍♀️ FASILI
 DAS\n\n🧚‍♀️ YASYNTHA\n\n🧚‍♀️ JOCKEY NARVAL\n\n\n\n\n\n\n
 \n\n\n\n\n~~~~~~~ INFOS ~~~~~~~~\n\n\n\n📆 Samedi 24 janvier 2026\n🕖 
 18:00 - 00:00\n📍 14 Av. Edouard Vaillant\, 93500 Pantin\n🎟️ Entré
 e gratuite sur billetterie\n\n\n\n\n\n\n\n\n\n\n\n Quelques règles à res
 pecter :\n- Le respect + la bienveillance : chacun.e se doit de se montrer
  respectueux.se envers autrui (les membres du staff\, les danseur.euses\, 
 le voisinage)\, de prendre soin de soi et des autres\n- La liberté : chac
 un.e doit se sentir libre d’être qui iel est\, de s’amuser sans être
  embêté.e\n- La tolérance : qu’ici soit prônée la diversité ! L’
 ouverture n’est pas une option\, tous les genres\, tout.e.s les ethnies\
 , tou.te.s les religions sont les bienvenu.e.s\n- La sécurité : chacun.e
  est tenu.e à veiller à la sécurité de tou.te.sNous nous réservons le
  droit de refuser l’entrée/d’exclure toute personne qui ne respectera
 it pas nos valeurs afin de préserver notre public.\n\n Site accessible au
 x personnes à mobilité réduite\n
ATTACH;FMTTYPE=image/jpeg:https://citefertile.com/wp-content/uploads/2025/
 12/visu-1920x1080-1.png
END:VEVENT
BEGIN:VTIMEZONE
TZID:Europe/Paris
X-LIC-LOCATION:Europe/Paris
BEGIN:STANDARD
DTSTART:20251026T020000
TZOFFSETFROM:+0200
TZOFFSETTO:+0100
TZNAME:CET
END:STANDARD
END:VTIMEZONE
END:VCALENDAR