BEGIN:VCALENDAR
VERSION:2.0
PRODID:-//wp-events-plugin.com//6.4.6.4//EN
TZID:Europe/Paris
X-WR-TIMEZONE:Europe/Paris
BEGIN:VEVENT
UID:1313@citefertile.com
DTSTART;TZID=Europe/Paris:20251206T160000
DTEND;TZID=Europe/Paris:20251207T000000
DTSTAMP:20251127T113230Z
URL:https://citefertile.com/events/fight-klub-x-cite-fertile/
SUMMARY:FIGHT KLUB x CITE FERTILE
DESCRIPTION:\n\n\n\n\n\n\n\n\n\n\n\n\n\n\n\n❄️ Fight Klub #25 ❄️\nD
 ernier événement d’une année qui aura été très riche !\n\nÀ cette
  occasion c’est l’esprit de Noël avant l’heure dans la chaleureuse 
 Cite Fertile\, nous recevons le talentueux Gira membre de Beau Mot Plage\,
  digger invétéré il vous fera découvrir sa sélection exceptionnelle a
 insi que Ill Spleen qui nous avais marqué lors de son premier passage et 
 qui compte bien renouveler cette performance !\n\nEnfin nos deux résident
 s Daymount et 7Ranzo vous réchaufferont avec leurs vibes singulières 
 🔥\n\n\n\n\n\n\n\n\n\n\n\n\n\n\n\n~~~~~~~ INFOS ~~~~~~~~\n\n📆 Samedi 
 29 novembre 2025\n🕖 16h-00h\n📍 14 Av. Edouard Vaillant\, 93500 Panti
 n\n🎟️ Billetterie gratuite\n\n\n\n\n\n\n\n\n\n\n\n\n Quelques règles
  à respecter :\n- Le respect + la bienveillance : chacun.e se doit de se 
 montrer respectueux.se envers autrui (les membres du staff\, les danseur.e
 uses\, le voisinage)\, de prendre soin de soi et des autres\n- La liberté
  : chacun.e doit se sentir libre d’être qui iel est\, de s’amuser san
 s être embêté.e\n- La tolérance : qu’ici soit prônée la diversité
  ! L’ouverture n’est pas une option\, tous les genres\, tout.e.s les e
 thnies\, tou.te.s les religions sont les bienvenu.e.s\n- La sécurité : c
 hacun.e est tenu.e à veiller à la sécurité de tou.te.sNous nous réser
 vons le droit de refuser l’entrée/d’exclure toute personne qui ne res
 pecterait pas nos valeurs afin de préserver notre public.\n\n Site access
 ible aux personnes à mobilité réduite\n
ATTACH;FMTTYPE=image/jpeg:https://citefertile.com/wp-content/uploads/2025/
 11/1000008370.png
END:VEVENT
BEGIN:VTIMEZONE
TZID:Europe/Paris
X-LIC-LOCATION:Europe/Paris
BEGIN:STANDARD
DTSTART:20251026T020000
TZOFFSETFROM:+0200
TZOFFSETTO:+0100
TZNAME:CET
END:STANDARD
END:VTIMEZONE
END:VCALENDAR