BEGIN:VCALENDAR
VERSION:2.0
PRODID:-//wp-events-plugin.com//6.4.6.4//EN
TZID:Europe/Paris
X-WR-TIMEZONE:Europe/Paris
BEGIN:VEVENT
UID:1299@citefertile.com
DTSTART;TZID=Europe/Paris:20251122T120000
DTEND;TZID=Europe/Paris:20251122T220000
DTSTAMP:20251029T150759Z
URL:https://citefertile.com/events/food-festival-philippin-christmas-marke
 t/
SUMMARY:Food Festival Philippin Christmas Market
DESCRIPTION:La Cité de Noël\, le village de Noël XXL à la Cité Fertile
 \n❄️🎅🎄🎁 LA CITÉ DE NOËL\, LE VILLAGE DE NOËL XXL DE LA CIT
 É FERTILE - TOUS LES WEEK-ENDS DU 22 NOVEMBRE AU 21 DÉCEMBRE\nCadeaux in
 solites\, maxi espace de jeu\, cabane du Père Noël\, ateliers\, animatio
 ns festives\, performances musicales\, streetfood &amp\; buvette d'hiver\n
 —————————\n\n\n\nAprès des mois de préparation\, on es
 t tellement fiers de vous annoncer le retour du Food Festival Philippin po
 ur sa 4ᵉ édition…sous le thème du Christmas Market ! \n\n\n\nPlongez
  dans la magie de Noël à la philippine : street-food\, musique\, danses 
 et traditions vous feront voyager au cœur de la culture philippine\, le t
 emps d’une journée pleine de joie\, de partage et de festivité. \n\n\n
 \n Cette année\, on investit un tout nouveau lieu spacieux et couvert à 
 la Cité Fertile\, le samedi 22 novembre 2025.\n\n Solidaire\, 1 € par b
 illet acheté sera reversé à une association aux Philippines pour souten
 ir leurs actions locales.\n\n\n\nOn a hâte de vous retrouver pour faire r
 ayonner les Philippines ensemble et célébrer une édition encore plus be
 lle et magique ! \n\n\n\n\nBilletterie\n————————\n🎁\nPL
 US D'INFOS SUR LA CITÉ DE NOËL\n&gt\;&gt\; Par ici\n🎟️ ENTRÉE LIBR
 E SUR LE SITE\n—————————\n👉INFORMATIONS PRATIQUES\n
 🚲 Comment venir ?\nRER E Pantin (4 minutes à pieds)\nMétro Quatre Che
 mins – ligne 7 (8 minutes à pieds) et Métro Hoche – ligne 5 (10 minu
 tes à pieds)\nTram 3 Ella Fitzgerald (5 minutes à pieds)\nBus 170\, 249\
 , 330 arrêt Jean Moulin\nParking à vélo à l’entrée du site.\nPas de
  parking voitures.\nParking PSH sur le site de la Cité Fertile.
ATTACH;FMTTYPE=image/jpeg:https://citefertile.com/wp-content/uploads/2025/
 10/1920x1080-2.png
END:VEVENT
BEGIN:VTIMEZONE
TZID:Europe/Paris
X-LIC-LOCATION:Europe/Paris
BEGIN:STANDARD
DTSTART:20251026T020000
TZOFFSETFROM:+0200
TZOFFSETTO:+0100
TZNAME:CET
END:STANDARD
END:VTIMEZONE
END:VCALENDAR