BEGIN:VCALENDAR
VERSION:2.0
PRODID:-//wp-events-plugin.com//6.4.6.4//EN
TZID:Europe/Paris
X-WR-TIMEZONE:Europe/Paris
BEGIN:VEVENT
UID:1225@citefertile.com
DTSTART;TZID=Europe/Paris:20250926T190000
DTEND;TZID=Europe/Paris:20250926T213000
DTSTAMP:20250905T125631Z
URL:https://citefertile.com/events/fresque-du-benevolat-9/
SUMMARY:Fresque du bénévolat
DESCRIPTION:La Fresque du Bénévolat est initiée par le Ministère des Sp
 orts\, de la Jeunesse et de la Vie Associative\, pilotée par la direction
  de la jeunesse\, de l'éducation populaire et de la vie associative\, et 
 animée avec le ❤️ par JeVeuxAider.gouv.fr. Il s’agit d’une expér
 ience collective de 2h30 pour s’inspirer\, apprendre et s’outiller pou
 r passer à l’action vers le bénévolat\, grâce à la force du collect
 if. Cette Fresque du Bénévolat est géniale\, parce qu’elle est compos
 ée de plein de micro actions\, à la portée de toutes et de tous. Elle d
 éjoue les peurs et ancre les engagements dans le présent. Or on le sait 
 : pour passer à l’action\, il vaut mieux viser un changement de « proc
 he en proche »\, petits pas après petits pas. 👣\nPourquoi une Fresque
  du Bénévolat ?\n1️⃣ Sensibiliser\n\nLa Fresque du bénévolat perme
 t de devenir acteur de l’engagement à proximité en explorant ses bienf
 aits : pour soi\, pour les autres\, et pour la société dans son ensemble
 .\n\n2️⃣ Lever les freins\n\nCe dispositif aide les participants à se
  reconnecter avec leurs engagements\, valeurs\, attentes\, peurs... Pour s
 e (re)lancer dans le bénévolat en sortant de l‘atelier. Elle forme à 
 l'animation et aux outils d'intelligence collective\, avec style et panach
 e !\n\n3️⃣ Inviter à l’action\n\nVous êtes convaincu que les besoi
 ns des associations doivent rencontrer la mobilisation citoyenne ? Avec la
  Fresque du bénévolat\, vous pouvez donner envie aux participants de sau
 ter le pas du bénévolat\, ici et maintenant.\n\nInscription &gt\;&gt\; I
 CI
ATTACH;FMTTYPE=image/jpeg:https://citefertile.com/wp-content/uploads/2025/
 02/CF-banniere-2.jpg
END:VEVENT
BEGIN:VTIMEZONE
TZID:Europe/Paris
X-LIC-LOCATION:Europe/Paris
BEGIN:DAYLIGHT
DTSTART:20250330T030000
TZOFFSETFROM:+0100
TZOFFSETTO:+0200
TZNAME:CEST
END:DAYLIGHT
END:VTIMEZONE
END:VCALENDAR