BEGIN:VCALENDAR
VERSION:2.0
PRODID:-//wp-events-plugin.com//6.4.6.4//EN
TZID:Europe/Paris
X-WR-TIMEZONE:Europe/Paris
BEGIN:VEVENT
UID:407@citefertile.com
DTSTART;TZID=Europe/Paris:20241018T143000
DTEND;TZID=Europe/Paris:20241018T170000
DTSTAMP:20240926T150545Z
URL:https://citefertile.com/events/fresque-du-benevolat/
SUMMARY:Fresque du bénévolat
DESCRIPTION:\n\n\nLa Fresque du Bénévolat\, c’est une expérience parti
 cipative de 2h30 pour s’inspirer ensemble\, apprendre sur soi et s’out
 iller pour passer à l’action par le bénévolat grâce à la force du c
 ollectif.\n\nCette session est une version bêta : ça veut dire que tu se
 ras le ou la premier.e participant.e et que tu vas contribuer à l’enric
 hissement de cet atelier. C’est un peu comme si tu avais participé à l
 a conception de la 1e Fresque du Climat. Rien que ça !\n\n\nBilletterie\n
 \n
ATTACH;FMTTYPE=image/jpeg:https://citefertile.com/wp-content/uploads/2024/
 09/CF-banniere-1.jpg
END:VEVENT
BEGIN:VTIMEZONE
TZID:Europe/Paris
X-LIC-LOCATION:Europe/Paris
BEGIN:DAYLIGHT
DTSTART:20240331T030000
TZOFFSETFROM:+0100
TZOFFSETTO:+0200
TZNAME:CEST
END:DAYLIGHT
END:VTIMEZONE
END:VCALENDAR