BEGIN:VCALENDAR
VERSION:2.0
PRODID:-//wp-events-plugin.com//6.4.6.4//EN
TZID:Europe/Paris
X-WR-TIMEZONE:Europe/Paris
BEGIN:VEVENT
UID:1317@citefertile.com
DTSTART;TZID=Europe/Paris:20251220T190000
DTEND;TZID=Europe/Paris:20251221T000000
DTSTAMP:20251205T143652Z
URL:https://citefertile.com/events/fubu-jam-party/
SUMMARY:Fubu jam party
DESCRIPTION:\n\n\n\n\n\n\n\n\n\n\n\n\n\n\n\n\nUBU Jam &amp\; Party Vol2 \n 
 20 décembre 2025\n\n Une jam hip-hop international - le RDV des amoureux 
 de la culture hip-hop\n\n Artistes de choix :\n Deejay Cléon aka the last
  bongo in Paris\, aux platines\n Wary The Warrior sera notre juge d'except
 ion+ SECRET judge\n Hosted by - ILL YO\n\n Programme :\n 19h00 : CYPHER pr
 ésélection jusqu'à 21h00 - avec 8 bboy/bgirl sélectionnés pour le 7 t
 o smoke Top Rock &amp\; sélection des cypher King and Queen\n 20h00 - 21h
 00 : Photo call\, avec SonYa - venez poser votre meilleur outfit\, votre m
 eilleure vibe et votre meilleur charisme en SOLO/GROUPE\n 21h00 - 21h30 : 
 rap show +Open mic\n 21h40 - 22H15 : 7 to smoke Top Rock\n22H15 annoncemen
 t du cypher King ou Queen\n22H30 - 00:00H DJ sets / party and chill\n\n\n\
 n\n\n\n\n\n\n\n\n\n\n\n\n\n~~~~~~~ INFOS ~~~~~~~~\n\n📆 Samedi 20 décem
 bre 2025\n🕖 19h-00h\n📍 14 Av. Edouard Vaillant\, 93500 Pantin\n🎟
 ️ Billetterie gratuite\n\n\n\n\n\n\n\n\n\n\n\n\n Quelques règles à res
 pecter :\n- Le respect + la bienveillance : chacun.e se doit de se montrer
  respectueux.se envers autrui (les membres du staff\, les danseur.euses\, 
 le voisinage)\, de prendre soin de soi et des autres\n- La liberté : chac
 un.e doit se sentir libre d’être qui iel est\, de s’amuser sans être
  embêté.e\n- La tolérance : qu’ici soit prônée la diversité ! L’
 ouverture n’est pas une option\, tous les genres\, tout.e.s les ethnies\
 , tou.te.s les religions sont les bienvenu.e.s\n- La sécurité : chacun.e
  est tenu.e à veiller à la sécurité de tou.te.sNous nous réservons le
  droit de refuser l’entrée/d’exclure toute personne qui ne respectera
 it pas nos valeurs afin de préserver notre public.\n\n Site accessible au
 x personnes à mobilité réduite\n
ATTACH;FMTTYPE=image/jpeg:https://citefertile.com/wp-content/uploads/2025/
 12/Capture-decran-2025-12-05-a-14.46.34.png
END:VEVENT
BEGIN:VTIMEZONE
TZID:Europe/Paris
X-LIC-LOCATION:Europe/Paris
BEGIN:STANDARD
DTSTART:20251026T020000
TZOFFSETFROM:+0200
TZOFFSETTO:+0100
TZNAME:CET
END:STANDARD
END:VTIMEZONE
END:VCALENDAR