BEGIN:VCALENDAR
VERSION:2.0
PRODID:-//wp-events-plugin.com//6.4.6.4//EN
TZID:Europe/Paris
X-WR-TIMEZONE:Europe/Paris
BEGIN:VEVENT
UID:54@citefertile.com
DTSTART;TZID=Europe/Paris:20240301T193000
DTEND;TZID=Europe/Paris:20240302T003000
DTSTAMP:20240216T143629Z
URL:https://citefertile.com/events/fuego-soiree-rai/
SUMMARY:FUEGO : SOIRÉE RAÏ
DESCRIPTION:🔥🔥 FUEGO : SOIRÉE 100% RAÏ À LA CITÉ FERTILE\n\nCet h
 iver\, la Cité Fertile canalise les énergies\, les voix et les corps aut
 our du global dancefloor et vous donne rendez-vous pour les Fuego\, des so
 irées clubs qui font monter la température. Pendant six mois\, collectif
 s résidents\, djs de feu viendront réchauffer les corps et les cœurs da
 ns le bar de cette ancienne gare.\nLa Louuve revient pour sa 4ème éditio
 n pour une soirée 100% raï !\n\n\n—————————\nLA LOUUVE
 \nUsant d’un contrôleur comme du volant d’une voiture bélier\, La Lo
 uuve t’aligne les chocs frontaux à mesure qu’elle drift dans les ruel
 les malfamées d’Afrique du Nord. De transitions en têtes à queue\, el
 le te passe en revue raï éthylique\, Electro Maghreb\, Afro Gnawa\, Dabk
 e\, Sharqi &amp\; Mahragan pour finalement te faire déflagrer une tripot
 ée de BPMs artisanaux\, l’espace d’une rotation pointant de la Maurit
 anie à l’Iran. Trônant à l’ombre de sa pègre Wah Wah Production\, 
 elle incarne ce que l’hyperactivisme antihype à de plus ambiancé et de
  patibulaire. Tout ça dans le souterrain des cauchemars orientalistes.\n\
 n—————————\nFOOD &amp\; DRINKS\nBar et restauration sur 
 place\n\n\n GRATUIT SUR BILLETTERIE 
ATTACH;FMTTYPE=image/jpeg:https://citefertile.com/wp-content/uploads/2024/
 02/banner-rai.jpg
END:VEVENT
BEGIN:VTIMEZONE
TZID:Europe/Paris
X-LIC-LOCATION:Europe/Paris
BEGIN:STANDARD
DTSTART:20231029T020000
TZOFFSETFROM:+0200
TZOFFSETTO:+0100
TZNAME:CET
END:STANDARD
END:VTIMEZONE
END:VCALENDAR