BEGIN:VCALENDAR
VERSION:2.0
PRODID:-//wp-events-plugin.com//6.4.6.4//EN
TZID:Europe/Paris
X-WR-TIMEZONE:Europe/Paris
BEGIN:VEVENT
UID:1278@citefertile.com
DTSTART;TZID=Europe/Paris:20251031T193000
DTEND;TZID=Europe/Paris:20251101T003000
DTSTAMP:20250929T155743Z
URL:https://citefertile.com/events/halloween-karaoke-party/
SUMMARY:Halloween Karaoké Party
DESCRIPTION:\n\n\n\n\n\n\n\n\n\n\n\n\n La grande soirée Halloween Karaoké
  débarque à la Cité Fertile !!\n\nPrépare ton costume le plus terrifia
 nt (ou le plus kitsch) et viens hurler tes chansons préférées sous la p
 leine lune ! La soirée sera ensorcelée par Toilettes Mixtes\, un collect
 if déjanté spécialiste des fêtes mémorables.\n\n Rendez-vous le 31 oc
 tobre pour chanter\, danser et frissonner tous ensemble…\n\n AU PROGRAMM
 EHits monstrueux toutes générations confondues\,Écran géant digne d’
 un film d’horreur\,Micros ouverts pour gueuler comme des zombies…5h de
  pur karaoké possédé !!\n\n À MANGER &amp\; À BOIRESorcières gourman
 des et vampires affamés rassurez-vous :Bar et restauration sur place pour
  reprendre des forces entre deux incantations vocales.\n\n ENTRÉE LIBRE &
 amp\; GRATUITE POUR TOU·TE·S LES CRÉATURES\n\n\n\n\n\n\n\n\n\n\n\n\n\n\
 n\n\n\n\n\n\n~~~~~~~ INFOS ~~~~~~~~\n\n📆 Vendredi 31 octobre 2025\n🕖
  19:30 - 00:30\n📍 14 Av. Edouard Vaillant\, 93500 Pantin\n🎟️ Entr
 ée gratuite sur billetterie\n\n\n\n\n\n\n\n\n\n\n\n\n Quelques règles à
  respecter :\n- Le respect + la bienveillance : chacun.e se doit de se mon
 trer respectueux.se envers autrui (les membres du staff\, les danseur.euse
 s\, le voisinage)\, de prendre soin de soi et des autres\n- La liberté : 
 chacun.e doit se sentir libre d’être qui iel est\, de s’amuser sans 
 être embêté.e\n- La tolérance : qu’ici soit prônée la diversité !
  L’ouverture n’est pas une option\, tous les genres\, tout.e.s les eth
 nies\, tou.te.s les religions sont les bienvenu.e.s\n- La sécurité : cha
 cun.e est tenu.e à veiller à la sécurité de tou.te.sNous nous réservo
 ns le droit de refuser l’entrée/d’exclure toute personne qui ne respe
 cterait pas nos valeurs afin de préserver notre public.\n\n Site accessib
 le aux personnes à mobilité réduite\n
ATTACH;FMTTYPE=image/jpeg:https://citefertile.com/wp-content/uploads/2025/
 09/31.10-couv-V1-scaled.jpg
END:VEVENT
BEGIN:VTIMEZONE
TZID:Europe/Paris
X-LIC-LOCATION:Europe/Paris
BEGIN:STANDARD
DTSTART:20251026T020000
TZOFFSETFROM:+0200
TZOFFSETTO:+0100
TZNAME:CET
END:STANDARD
END:VTIMEZONE
END:VCALENDAR