BEGIN:VCALENDAR
VERSION:2.0
PRODID:-//wp-events-plugin.com//6.4.6.4//EN
TZID:Europe/Paris
X-WR-TIMEZONE:Europe/Paris
BEGIN:VEVENT
UID:1314@citefertile.com
DTSTART;TZID=Europe/Paris:20251219T190000
DTEND;TZID=Europe/Paris:20251220T000000
DTSTAMP:20251127T121708Z
URL:https://citefertile.com/events/hangoel/
SUMMARY:Hangoël
DESCRIPTION:Hangoël\, deuxième édition ✨\n\n\nHangora revient à la Ci
 té Fertile pour une soirée unique\, entre concert live et jam ouverte.\n
 📅 19 décembre — 19h à 00h\n📍 La Cité Fertile\, Pantin\n\nAu pro
 gramme :\n• Concert immersif par les artistes Hangora\n• Jam session o
 uverte à tous les musiciens\n• Ambiance acoustique\, douce et festive\n
 • Bar sur place\nViens partager un moment musical authentique et chaleur
 eux avant les fêtes.\n\n\n Entrée sur inscription
ATTACH;FMTTYPE=image/jpeg:https://citefertile.com/wp-content/uploads/2025/
 11/ShotGun.png
END:VEVENT
BEGIN:VTIMEZONE
TZID:Europe/Paris
X-LIC-LOCATION:Europe/Paris
BEGIN:STANDARD
DTSTART:20251026T020000
TZOFFSETFROM:+0200
TZOFFSETTO:+0100
TZNAME:CET
END:STANDARD
END:VTIMEZONE
END:VCALENDAR