BEGIN:VCALENDAR
VERSION:2.0
PRODID:-//wp-events-plugin.com//6.4.6.4//EN
TZID:Europe/Paris
X-WR-TIMEZONE:Europe/Paris
BEGIN:VEVENT
UID:839@citefertile.com
DTSTART;TZID=Europe/Paris:20250801T193000
DTEND;TZID=Europe/Paris:20250802T003000
DTSTAMP:20250728T091841Z
URL:https://citefertile.com/events/karaoke-geant/
SUMMARY:Karaoké géant
DESCRIPTION:\n\n\n\n\n\n\n\n\n\n\n🌟 La grande soirée karaoké reprend 
 à la Cité Fertile !! Elle sera orchestrée par Toilettes Mixtes\, un col
 lectif étinceleur d'événements.\nRendez-vous le 1er Août pour danser e
 t chanter ensemble.\n\n🎤 Au programme des hits toutes générations con
 fondues\, un écran géant\, des micros pour chanter à tue-tête et le to
 ut pendant 5h00 !!\n\n🍕 Et pour les gourmand.e.s : bar et restauration 
 sur place\n💗 Entrée libre et gratuite pour tous.tes\n\n\n\n\n\n\n\n\n\
 n~~~~~~~ INFOS ~~~~~~~~\n\n📆 Samedi 1er août 2025\n🕖 19h30 – 00h3
 0\n📍 14 Av. Edouard Vaillant\, 93500 Pantin\n🎟️ Entrée gratuite s
 ur billetterie\n\n\n\n\n---------------------------------\n\n\n\n Quelques
  règles à respecter :\n- Le respect + la bienveillance : chacun.e se doi
 t de se montrer respectueux.se envers autrui (les membres du staff\, les d
 anseur.euses\, le voisinage)\, de prendre soin de soi et des autres\n- La 
 liberté : chacun.e doit se sentir libre d’être qui iel est\, de s’am
 user sans être embêté.e\n- La tolérance : qu’ici soit prônée la di
 versité ! L’ouverture n’est pas une option\, tous les genres\, tout.e
 .s les ethnies\, tou.te.s les religions sont les bienvenu.e.s\n- La sécur
 ité : chacun.e est tenu.e à veiller à la sécurité de tou.te.sNous nou
 s réservons le droit de refuser l’entrée/d’exclure toute personne qu
 i ne respecterait pas nos valeurs afin de préserver notre public.\n\n Sit
 e accessible aux personnes à mobilité réduite\n
ATTACH;FMTTYPE=image/jpeg:https://citefertile.com/wp-content/uploads/2025/
 07/karaoke_couv_jr5fmx.jpg
END:VEVENT
BEGIN:VTIMEZONE
TZID:Europe/Paris
X-LIC-LOCATION:Europe/Paris
BEGIN:DAYLIGHT
DTSTART:20250330T030000
TZOFFSETFROM:+0100
TZOFFSETTO:+0200
TZNAME:CEST
END:DAYLIGHT
END:VTIMEZONE
END:VCALENDAR