BEGIN:VCALENDAR
VERSION:2.0
PRODID:-//wp-events-plugin.com//6.4.6.4//EN
TZID:Europe/Paris
X-WR-TIMEZONE:Europe/Paris
BEGIN:VEVENT
UID:1322@citefertile.com
DTSTART;TZID=Europe/Paris:20260130T190000
DTEND;TZID=Europe/Paris:20260130T234500
DTSTAMP:20251217T144459Z
URL:https://citefertile.com/events/karaoke-party-a-la-cite-fertile-3/
SUMMARY:Karaoké Party à la Cité Fertile
DESCRIPTION:\n\n\n\n\n\n\n\n\n\n\n\n\n🌟 La Karaoké Party revient faire 
 vibrer la Cité Fertile pour une nouvelle soirée KARAOKÉ XXL !\n\nPrépa
 re ton plus beau look (le plus classe… ou le plus kitsch) et viens hurle
 r tes chansons préférées en chœur avec une foule en délire !\n\n📅 
 Rendez-vous le 30 janvier pour chanter\, danser et ne plus avoir de voix e
 nsemble…\n\n🎤 AU PROGRAMME\nTubes légendaires toutes générations c
 onfondues\nÉcran géant prêt à accueillir tes plus grands moments de gl
 oire\nMicros ouverts pour chanter à pleins poumons… sans jugement !\n5h
  de pur karaoké déchaîné !!\n\n🍕 À MANGER &amp\; À BOIRE\nBar et 
 restauration sur place pour recharger les batteries entre deux performance
 s dignes de stade.\n💗 ENTRÉE LIBRE &amp\; GRATUITE POUR TOUT LE MONDE\
 nPrêt·e à devenir la star de la soirée ? 🎶🔥\n\n\n\n\n\n\n\n\n\n\
 n\n\n\n\n\n\n\n\n\n\n~~~~~~~ INFOS ~~~~~~~~\n\n📆 Vendredi 30 janvier 20
 26\n🕖 19:00 - 00:00\n📍 14 Av. Edouard Vaillant\, 93500 Pantin\n🎟
 ️ Entrée gratuite sur billetterie\n\n\n\n\n\n\n\n\n\n\n\n\n Quelques r
 ègles à respecter :\n- Le respect + la bienveillance : chacun.e se doit 
 de se montrer respectueux.se envers autrui (les membres du staff\, les dan
 seur.euses\, le voisinage)\, de prendre soin de soi et des autres\n- La li
 berté : chacun.e doit se sentir libre d’être qui iel est\, de s’amus
 er sans être embêté.e\n- La tolérance : qu’ici soit prônée la dive
 rsité ! L’ouverture n’est pas une option\, tous les genres\, tout.e.s
  les ethnies\, tou.te.s les religions sont les bienvenu.e.s\n- La sécurit
 é : chacun.e est tenu.e à veiller à la sécurité de tou.te.sNous nous 
 réservons le droit de refuser l’entrée/d’exclure toute personne qui 
 ne respecterait pas nos valeurs afin de préserver notre public.\n\n Site 
 accessible aux personnes à mobilité réduite\n
ATTACH;FMTTYPE=image/jpeg:https://citefertile.com/wp-content/uploads/2025/
 12/karaoke-affiche-A3-1920-×-1080-px-2.png
END:VEVENT
BEGIN:VTIMEZONE
TZID:Europe/Paris
X-LIC-LOCATION:Europe/Paris
BEGIN:STANDARD
DTSTART:20251026T020000
TZOFFSETFROM:+0200
TZOFFSETTO:+0100
TZNAME:CET
END:STANDARD
END:VTIMEZONE
END:VCALENDAR