BEGIN:VCALENDAR
VERSION:2.0
PRODID:-//wp-events-plugin.com//6.4.6.4//EN
TZID:Europe/Paris
X-WR-TIMEZONE:Europe/Paris
BEGIN:VEVENT
UID:1285@citefertile.com
DTSTART;TZID=Europe/Paris:20251128T193000
DTEND;TZID=Europe/Paris:20251129T003000
DTSTAMP:20251030T162852Z
URL:https://citefertile.com/events/karaoke-party-a-la-cite-fertile/
SUMMARY:Karaoké Party à la Cité Fertile
DESCRIPTION:\n\n\n\n\n\n\n\n\n\n\n\n\n🌟 Suite à l’édition incroyable
  d’Halloween\, Toilettes Mixtes revient faire vibrer la Cité Fertile po
 ur une nouvelle soirée KARAOKÉ XXL !\nPrépare ton plus beau look (le pl
 us classe… ou le plus kitsch) et viens hurler tes chansons préférées 
 en chœur avec une foule en délire !\n\n📅 Rendez-vous le 28 novembre p
 our chanter\, danser et ne plus avoir de voix ensemble…\n\n🎤 AU PROGR
 AMME\nTubes légendaires toutes générations confondues\nÉcran géant pr
 êt à accueillir tes plus grands moments de gloire\nMicros ouverts pour c
 hanter à pleins poumons… sans jugement !\n5h de pur karaoké déchaîn
 é !!\n\n🍕 À MANGER &amp\; À BOIRE\nBar et restauration sur place pou
 r recharger les batteries entre deux performances dignes de stade.\n💗 E
 NTRÉE LIBRE &amp\; GRATUITE POUR TOUT LE MONDE\n\nPrêt·e à devenir la 
 star de la soirée ? 🎶🔥\n\n\n\n\n\n\n\n\n\n\n\n\n\n\n\n\n\n\n\n\n~~~
 ~~~~ INFOS ~~~~~~~~\n\n📆 Vendredi 28 novembre 2025\n🕖 19:30 - 00:30\
 n📍 14 Av. Edouard Vaillant\, 93500 Pantin\n🎟️ Entrée gratuite sur
  billetterie\n\n\n\n\n\n\n\n\n\n\n\n\n Quelques règles à respecter :\n- 
 Le respect + la bienveillance : chacun.e se doit de se montrer respectueux
 .se envers autrui (les membres du staff\, les danseur.euses\, le voisinage
 )\, de prendre soin de soi et des autres\n- La liberté : chacun.e doit se
  sentir libre d’être qui iel est\, de s’amuser sans être embêté.e\
 n- La tolérance : qu’ici soit prônée la diversité ! L’ouverture n
 ’est pas une option\, tous les genres\, tout.e.s les ethnies\, tou.te.s 
 les religions sont les bienvenu.e.s\n- La sécurité : chacun.e est tenu.e
  à veiller à la sécurité de tou.te.sNous nous réservons le droit de r
 efuser l’entrée/d’exclure toute personne qui ne respecterait pas nos 
 valeurs afin de préserver notre public.\n\n Site accessible aux personnes
  à mobilité réduite\n
ATTACH;FMTTYPE=image/jpeg:https://citefertile.com/wp-content/uploads/2025/
 10/28.11-couv-scaled.jpg
END:VEVENT
BEGIN:VTIMEZONE
TZID:Europe/Paris
X-LIC-LOCATION:Europe/Paris
BEGIN:STANDARD
DTSTART:20251026T020000
TZOFFSETFROM:+0200
TZOFFSETTO:+0100
TZNAME:CET
END:STANDARD
END:VTIMEZONE
END:VCALENDAR