BEGIN:VCALENDAR
VERSION:2.0
PRODID:-//wp-events-plugin.com//6.4.6.4//EN
TZID:Europe/Paris
X-WR-TIMEZONE:Europe/Paris
BEGIN:VEVENT
UID:51@citefertile.com
DTSTART;TZID=Europe/Paris:20240310T140000
DTEND;TZID=Europe/Paris:20240310T170000
DTSTAMP:20240214T161636Z
URL:https://citefertile.com/events/la-fresque-du-climat/
SUMMARY:La Fresque du Climat
DESCRIPTION:\n\n\n🌎 Face à l'urgence\, l'objectif de La Fresque du Clim
 at\, est de former le plus grand nombre aux enjeux climatiques pour que ch
 acun puisse décrypter les informations et agir efficacement sur le plan i
 ndividuel et collectif.\n\n\n\n\n\n\n\n\n\n\n_____________________________
 _______________\n\n\n\n\n\n\n\n\n\n🗓 Au programme création de la fresq
 ue en groupe\, moment d'échange sur les émotions\, les ressentis et les 
 solutions qu'elles soit individuelles ou collectives.\n\n\n\nINSCRIPTION
ATTACH;FMTTYPE=image/jpeg:https://citefertile.com/wp-content/uploads/2024/
 02/FRESQUE-CLIMAT.png
END:VEVENT
BEGIN:VTIMEZONE
TZID:Europe/Paris
X-LIC-LOCATION:Europe/Paris
BEGIN:STANDARD
DTSTART:20231029T020000
TZOFFSETFROM:+0200
TZOFFSETTO:+0100
TZNAME:CET
END:STANDARD
END:VTIMEZONE
END:VCALENDAR