BEGIN:VCALENDAR
VERSION:2.0
PRODID:-//wp-events-plugin.com//6.4.6.4//EN
TZID:Europe/Paris
X-WR-TIMEZONE:Europe/Paris
BEGIN:VEVENT
UID:525@citefertile.com
DTSTART;TZID=Europe/Paris:20250124T193000
DTEND;TZID=Europe/Paris:20250124T210000
DTSTAMP:20250109T142402Z
URL:https://citefertile.com/events/lab-facettes-2/
SUMMARY:Lab Facettes #2
DESCRIPTION:\n\nC'est l'heure du défi de janvier ! Le principe ? Ne pas bo
 ire d’alcool à partir de l’heure du lever le 1er janvier\, jusqu’à
  la fin du mois.\n\nSi\, en ce moment\, tu réfléchis à ta relation avec
  l’alcool\, ce défi peut être l’opportunité d’expérimenter une n
 ouvelle dynamique.\nCela peut aussi être l'occasion de découvrir le plai
 sir de te détendre\, de sortir entre ami·e·s\, de partager un repas ou 
 un bon moment… sans y associer systématiquement une consommation d’al
 cool. Et c’est exactement ce que nous te proposons 👇\n\n➡️ Rejoin
 s-nous fin janvier pour notre Lab Facettes #2\, sur le thème du NOLO (NO 
 alcohol\, LOw alcohol).\nSi tu veux :\n🤓 en apprendre plus sur le NOLO 
 et déguster de délicieuses boissons sans alcool 🧃\n🔎 découvrir\, 
 en avant-première\, la 1ère version de notre app NOLO\, une application 
 pour t'accompagner dans tes moments festifs 📱\n💭 et\, surtout\, co
 ncevoir avec nous la 2ème version… en vue d’une sortie avant la fin d
 e l’année 2025 🚀\nCe 2ème Lab est fait pour toi 🍹🤝\n\n\n\n\n
 ——————————\n\n🎫 GRATUIT SUR BILLETTERIE\n———
 ———————• Les règles à respecter : - Le respect + la bien
 veillance : chacun.e se doit de se montrer respectueux.se envers autrui (l
 es membres du staff\, les danseur.euses\, le voisinage)\, de prendre soin 
 de soi et des autres- La liberté : chacun.e doit se sentir libre d’êtr
 e qui iel est\, de s’amuser sans être embêté.e- La tolérance : qu’
 ici soit prônée la diversité ! L’ouverture n’est pas une option\, t
 ous les genres\, tout.e.s les ethnies\, tou.te.s les religions sont les bi
 envenu.e.s- La sécurité : chacun.e est tenu.e à veiller à la sécurit
 é de tou.te.s- Nous nous réservons le droit de refuser l’entrée/d’e
 xclure toute personne qui ne respecterait pas nos valeurs afin de préserv
 er notre public.——————————\n\n&nbsp\;
ATTACH;FMTTYPE=image/jpeg:https://citefertile.com/wp-content/uploads/2025/
 01/Lab-Facettes-2-NOLO-1920x1080px.png
END:VEVENT
BEGIN:VTIMEZONE
TZID:Europe/Paris
X-LIC-LOCATION:Europe/Paris
BEGIN:STANDARD
DTSTART:20241027T020000
TZOFFSETFROM:+0200
TZOFFSETTO:+0100
TZNAME:CET
END:STANDARD
END:VTIMEZONE
END:VCALENDAR