BEGIN:VCALENDAR
VERSION:2.0
PRODID:-//wp-events-plugin.com//6.4.6.4//EN
TZID:Europe/Paris
X-WR-TIMEZONE:Europe/Paris
BEGIN:VEVENT
UID:267@citefertile.com
DTSTART;TZID=Europe/Paris:20240718T183000
DTEND;TZID=Europe/Paris:20240719T003000
DTSTAMP:20240703T153637Z
URL:https://citefertile.com/events/lagga-club-present-lagga-fresh-air-open
 -air-vol-2/
SUMMARY:LAGGA CLUB PRESENT... LAGGA FRESH AIR (OPEN AIR) VOL.2
DESCRIPTION:\n\n\n\nWe needed air and space after that crazy Fête de la Mu
 sique\, and this time we've got it 🙌\n\nLet's activate our OPEN AIR MOD
 E ONCE AGAIN !! 🌤\n\nJoin us on Thursday 18 July for music\, vibes\, fo
 od &amp\; more..\nOn mange la vie encore un peu ✨\n\nLINE UP \n💿 CLE
 NARIE\n💿 RAF W. THE 6\n💿 TYXFI\n💿 LEE\n💿 THESUPERFLYKID\n\nGRA
 TUIT SUR BILLETTERIE \n\n&nbsp\;\n\n\n\n
ATTACH;FMTTYPE=image/jpeg:https://citefertile.com/wp-content/uploads/2024/
 07/19201080.png
END:VEVENT
BEGIN:VTIMEZONE
TZID:Europe/Paris
X-LIC-LOCATION:Europe/Paris
BEGIN:DAYLIGHT
DTSTART:20240331T030000
TZOFFSETFROM:+0100
TZOFFSETTO:+0200
TZNAME:CEST
END:DAYLIGHT
END:VTIMEZONE
END:VCALENDAR