BEGIN:VCALENDAR
VERSION:2.0
PRODID:-//wp-events-plugin.com//6.4.6.4//EN
TZID:Europe/Paris
X-WR-TIMEZONE:Europe/Paris
BEGIN:VEVENT
UID:1277@citefertile.com
DTSTART;TZID=Europe/Paris:20251011T160000
DTEND;TZID=Europe/Paris:20251012T013000
DTSTAMP:20250925T104717Z
URL:https://citefertile.com/events/last-open-air-la-relance/
SUMMARY:Last open air : La Relance
DESCRIPTION:\n\n\n\n\n\n\n\n\n\n\n\n\n\nLa Relance x La Cité Fertile\n\nOn
  revient\, cette fois-ci\, à la Cité Fertile pour un Open Air au préau 
 (couvert) qui sera certainement le dernier de la saison\, à ne surtout pa
 s louper ! Pour l'occasion\, la sonorisation est gérée par Orange Decibe
 l \n\n LINE UP SERENNEKIZOKUNATIVO (LIVE)LA RELANCE\n\n SONORISATIONOrange
  Decibel\n\nLa Relance célèbre la richesse des différences musicales et
  humaines\, c'est pourquoi nous œuvrons pour proposer une fête et un cad
 re où chaque personne est libre d'explorer\, de danser et de s'exprimer p
 leinement. Aucun acte déplacé ou discriminant ne sera toléré.\n\n\n\n\
 n\n\n\n\n~~~~~~~ INFOS ~~~~~~~~\n\n📆 Samedi 11 octobre 2025\n🕖 16h00
 -01h30\n📍 14 Av. Edouard Vaillant\, 93500 Pantin\n🎟️ Entrée gratu
 ite sur billetterie\n\n\n\n\n---------------------------------\n\n\n\n Que
 lques règles à respecter :\n- Le respect + la bienveillance : chacun.e s
 e doit de se montrer respectueux.se envers autrui (les membres du staff\, 
 les danseur.euses\, le voisinage)\, de prendre soin de soi et des autres\n
 - La liberté : chacun.e doit se sentir libre d’être qui iel est\, de s
 ’amuser sans être embêté.e\n- La tolérance : qu’ici soit prônée 
 la diversité ! L’ouverture n’est pas une option\, tous les genres\, t
 out.e.s les ethnies\, tou.te.s les religions sont les bienvenu.e.s\n- La s
 écurité : chacun.e est tenu.e à veiller à la sécurité de tou.te.sNou
 s nous réservons le droit de refuser l’entrée/d’exclure toute person
 ne qui ne respecterait pas nos valeurs afin de préserver notre public.\n\
 n Site accessible aux personnes à mobilité réduite\n
ATTACH;FMTTYPE=image/jpeg:https://citefertile.com/wp-content/uploads/2025/
 09/554479585_830517262965889_2469717652376756452_n.jpg
END:VEVENT
BEGIN:VTIMEZONE
TZID:Europe/Paris
X-LIC-LOCATION:Europe/Paris
BEGIN:DAYLIGHT
DTSTART:20250330T030000
TZOFFSETFROM:+0100
TZOFFSETTO:+0200
TZNAME:CEST
END:DAYLIGHT
END:VTIMEZONE
END:VCALENDAR