BEGIN:VCALENDAR
VERSION:2.0
PRODID:-//wp-events-plugin.com//6.4.6.4//EN
TZID:Europe/Paris
X-WR-TIMEZONE:Europe/Paris
BEGIN:VEVENT
UID:1318@citefertile.com
DTSTART;TZID=Europe/Paris:20260116T180000
DTEND;TZID=Europe/Paris:20260117T000000
DTSTAMP:20251217T093652Z
URL:https://citefertile.com/events/magik-market/
SUMMARY:Magik market
DESCRIPTION:\n\n\n\n\n\n\n\n\n\n\n\n\n\n\n\n\n\n\n🚨 Votre attention s’
 il vous plaît... 🚨\nCe train est à destination de La Cité Fertile
 ! 🚃\n\nLe Magik Market sera votre chef de bord et a le plaisir de vous 
 accueillir une seconde fois à la Cité Fertile\, le VENDREDI 16 JANVIER
 .\n\nTout notre équipage sera présent pour vous proposer une magnifiqu
 e soirée\, toujours aussi groovy\, funky et heavy 🎺 🖤\n\nBon voyag
 e!\n\n16.01.26\nÀ partir de 18h Entrée libre\n\n\n\n\n\n\n\n\n\n\n\n\n
 \n\n\n\n\n\n\n\n\n\n\n\n\n\n~~~~~~~ INFOS ~~~~~~~~\n\n📆 Vendredi 16 jan
 vier 2026\n🕖 18:00 - 00:00\n📍 14 Av. Edouard Vaillant\, 93500 Pantin
 \n🎟️ Entrée gratuite sur billetterie\n\n\n\n\n\n\n\n\n\n\n\n\n Quelq
 ues règles à respecter :\n- Le respect + la bienveillance : chacun.e se 
 doit de se montrer respectueux.se envers autrui (les membres du staff\, le
 s danseur.euses\, le voisinage)\, de prendre soin de soi et des autres\n- 
 La liberté : chacun.e doit se sentir libre d’être qui iel est\, de s
 ’amuser sans être embêté.e\n- La tolérance : qu’ici soit prônée 
 la diversité ! L’ouverture n’est pas une option\, tous les genres\, t
 out.e.s les ethnies\, tou.te.s les religions sont les bienvenu.e.s\n- La s
 écurité : chacun.e est tenu.e à veiller à la sécurité de tou.te.sNou
 s nous réservons le droit de refuser l’entrée/d’exclure toute person
 ne qui ne respecterait pas nos valeurs afin de préserver notre public.\n\
 n Site accessible aux personnes à mobilité réduite\n
ATTACH;FMTTYPE=image/jpeg:https://citefertile.com/wp-content/uploads/2025/
 12/FB.jpg
END:VEVENT
BEGIN:VTIMEZONE
TZID:Europe/Paris
X-LIC-LOCATION:Europe/Paris
BEGIN:STANDARD
DTSTART:20251026T020000
TZOFFSETFROM:+0200
TZOFFSETTO:+0100
TZNAME:CET
END:STANDARD
END:VTIMEZONE
END:VCALENDAR