BEGIN:VCALENDAR
VERSION:2.0
PRODID:-//wp-events-plugin.com//6.4.6.4//EN
TZID:Europe/Paris
X-WR-TIMEZONE:Europe/Paris
BEGIN:VEVENT
UID:1321@citefertile.com
DTSTART;TZID=Europe/Paris:20260117T120000
DTEND;TZID=Europe/Paris:20260118T190000
DTSTAMP:20260113T155048Z
URL:https://citefertile.com/events/marche-pepites-1/
SUMMARY:Marché Pépites #1
DESCRIPTION:\n\n\n\n\n\n\n\n\n\n\n\n\n\n✨ Marché Pépites – Première 
 édition ✨\nOn est super heureux·ses de vous présenter la toute premi
 ère édition du Marché Pépites 💛Un marché imaginé pour mettre en a
 vant des exposant.e.s passionné.e.s et vous aider à trouver des pépites
 \, faites avec le coeur.\nPour cette première édition\, on a choisi de m
 ettre à l’honneur l’artisanat et la création : illustrations\, fripe
 s\, céramiques\, objets déco\, papeterie\, brocante… Une belle diversi
 té de styles et d’univers à découvrir en se baladant de stand en stan
 d.\n+ de 20 exposant.e.s seront là pour partager leur travail\, échanger
  avec vous et\, on l’espère\, vous faire craquer pour une ou plusieurs 
 pépites ✨Un moment pour flâner\, discuter\, s’inspirer et repartir a
 vec des coups de cœur.\n\n\n\n\n\n\n\n\n\n\n\n\n\n\n\n\n\n\n\n\n\n\n~~~~~
 ~~ INFOS ~~~~~~~~\n\n📆 Samedi 17 &amp\; dimanche 18 janvier 2026\n🕖 
 12:00 - 19:00\n📍 14 Av. Edouard Vaillant\, 93500 Pantin\n🎟️ Entré
 e gratuite sur billetterie \n\n\n\n\n\n\n\n\n\n\n\n\n Quelques règles à
  respecter :\n- Le respect + la bienveillance : chacun.e se doit de se mon
 trer respectueux.se envers autrui (les membres du staff\, les danseur.euse
 s\, le voisinage)\, de prendre soin de soi et des autres\n- La liberté : 
 chacun.e doit se sentir libre d’être qui iel est\, de s’amuser sans 
 être embêté.e\n- La tolérance : qu’ici soit prônée la diversité !
  L’ouverture n’est pas une option\, tous les genres\, tout.e.s les eth
 nies\, tou.te.s les religions sont les bienvenu.e.s\n- La sécurité : cha
 cun.e est tenu.e à veiller à la sécurité de tou.te.sNous nous réservo
 ns le droit de refuser l’entrée/d’exclure toute personne qui ne respe
 cterait pas nos valeurs afin de préserver notre public.\n\n Site accessib
 le aux personnes à mobilité réduite\n
ATTACH;FMTTYPE=image/jpeg:https://citefertile.com/wp-content/uploads/2025/
 12/CF-Affiche-marche-1920-x-1080-px.png
END:VEVENT
BEGIN:VTIMEZONE
TZID:Europe/Paris
X-LIC-LOCATION:Europe/Paris
BEGIN:STANDARD
DTSTART:20251026T020000
TZOFFSETFROM:+0200
TZOFFSETTO:+0100
TZNAME:CET
END:STANDARD
END:VTIMEZONE
END:VCALENDAR