BEGIN:VCALENDAR
VERSION:2.0
PRODID:-//wp-events-plugin.com//6.4.6.4//EN
TZID:Europe/Paris
X-WR-TIMEZONE:Europe/Paris
BEGIN:VEVENT
UID:243@citefertile.com
DTSTART;TZID=Europe/Paris:20240622T120000
DTEND;TZID=Europe/Paris:20240622T200000
DTSTAMP:20240618T103139Z
URL:https://citefertile.com/events/marche-plancheur-euses-for-palestine/
SUMMARY:Marché Plancheur-euses for Palestine
DESCRIPTION:🎨 Plancheur·euses\, c’est un festival de BD et d’illust
 rations féministes et queers dont la dernière édition s’est tenue en 
 mars 2024.\n\n🇵🇸 On revient le 22 juin à la Cité Fertile avec Plan
 cheur·euses for Palestine\, un événement à but caritatif dont tous les
  dons et une part des ventes des artistes seront reversés à une cagnotte
  pour la Palestine.\n\nAu programme\n- BD\n- Fanzines\n- Illustrations\n- 
 Prints\n\n🍻 Restauration et boisson sur place\n\n❤️ Gratuit en acc
 ès libre\n
ATTACH;FMTTYPE=image/jpeg:https://citefertile.com/wp-content/uploads/2024/
 06/IMG_4533.jpg
END:VEVENT
BEGIN:VTIMEZONE
TZID:Europe/Paris
X-LIC-LOCATION:Europe/Paris
BEGIN:DAYLIGHT
DTSTART:20240331T030000
TZOFFSETFROM:+0100
TZOFFSETTO:+0200
TZNAME:CEST
END:DAYLIGHT
END:VTIMEZONE
END:VCALENDAR