BEGIN:VCALENDAR
VERSION:2.0
PRODID:-//wp-events-plugin.com//6.4.6.4//EN
TZID:Europe/Paris
X-WR-TIMEZONE:Europe/Paris
BEGIN:VEVENT
UID:53@citefertile.com
DTSTART;TZID=Europe/Paris:20240309T120000
DTEND;TZID=Europe/Paris:20240310T190000
DTSTAMP:20240223T104653Z
URL:https://citefertile.com/events/marche-ubuntu-marche-afro-caribeen-enga
 ge/
SUMMARY:Marché Ubuntu\, marché afro-caribéen engagé
DESCRIPTION:✊🏾UBUNTU\, MARCHÉ AFRO-CARIBÉEN ENGAGÉ\n\nPour découvr
 ir l'essence de l'Afro-Caraibes à travers des marques éco-responsables\,
  éthiques et durables\, animées par des entrepreneur.e.s passionné.e.s.
 \n\nRejoignez-nous les 09 et 10 mars 2024 de 12h à 19h.\n\n————
 —————\n\nUBUNTU C'EST...\n\n🔸Un marché qui réunit une séle
 ction pointue de marques noires et françaises.\n🔸Un marché qui met en
  avant des créateur.ice.s de cosmétiques naturels\, d'objets de design\,
  de prêt-à-porter et de bijoux de qualité\, ainsi que des livres jeunes
 se inspirants.\n🔸L'occasion de découvrir des pépites qui s'inspirent 
 des cultures afro-caribéennes.\n\n—————————\n\nLE PROGR
 AMME\n\n🔸 Marché le samedi et dimanche de 12h à 19h avec +60 stands\n
 🔸Conférences  le samedi uniquement (accès payant / inscriptions en a
 mont)\n\n 	\n\n 	\n14H00-14H30 : Découverte des solutions Ubuntu\n 	\n14H
 30-16H00 : Conférences interactives et questions réponses\n 	\n16H00-17H
 00 : speed networking\n\n\n\n—————————\n\nFOOD &amp\; DR
 INKS\nBar et restauration sur place\n\n—————————\n\nBILL
 ETTERIE\n🔸Entrée gratuite pour le marché\n🔸Entrée payante pour as
 sister aux conférences et ateliers\n\nhttps://www.helloasso.com/associati
 ons/je-consomme-noir/evenements/le-marche-ubuntu-editions-des-pepites
ATTACH;FMTTYPE=image/jpeg:https://citefertile.com/wp-content/uploads/2024/
 02/1920x1080px.jpg
END:VEVENT
BEGIN:VTIMEZONE
TZID:Europe/Paris
X-LIC-LOCATION:Europe/Paris
BEGIN:STANDARD
DTSTART:20231029T020000
TZOFFSETFROM:+0200
TZOFFSETTO:+0100
TZNAME:CET
END:STANDARD
END:VTIMEZONE
END:VCALENDAR