BEGIN:VCALENDAR
VERSION:2.0
PRODID:-//wp-events-plugin.com//6.4.6.4//EN
TZID:Europe/Paris
X-WR-TIMEZONE:Europe/Paris
BEGIN:VEVENT
UID:1304@citefertile.com
DTSTART;TZID=Europe/Paris:20251121T190000
DTEND;TZID=Europe/Paris:20251121T233000
DTSTAMP:20251114T170424Z
URL:https://citefertile.com/events/masterclass-jam-session-handpan/
SUMMARY:Masterclass & Jam Session Handpan
DESCRIPTION: Vendredi 21 novembre 2025 | 19h – 00h\n La Cité Fertile –
  Pantin\n\nPour sa première date à la Cité Fertile\, le collectif Hango
 ra vous invite à une soirée unique autour du handpan\, entre initiation\
 , concert et jam session dans une atmosphère conviviale et lumineuse.\n\n
  Au programme :→ 19h – 21h : Masterclass Handpan par Gaetano→ 21h 
 – 21h30 : Concert par Key Handpan &amp\; Alex→ 21h30 – 00h : Jam ses
 sion ouverte\n\nUne soirée solaire et inspirante\, point de départ du Ha
 ngora Festival 2026 \n Entrée libre sur inscription | Ouvert à tous nive
 aux | Instruments bienvenus
ATTACH;FMTTYPE=image/jpeg:https://citefertile.com/wp-content/uploads/2025/
 11/577748978_122107390317069359_1769328296089992791_n-scaled.jpg
END:VEVENT
BEGIN:VTIMEZONE
TZID:Europe/Paris
X-LIC-LOCATION:Europe/Paris
BEGIN:STANDARD
DTSTART:20251026T020000
TZOFFSETFROM:+0200
TZOFFSETTO:+0100
TZNAME:CET
END:STANDARD
END:VTIMEZONE
END:VCALENDAR