BEGIN:VCALENDAR
VERSION:2.0
PRODID:-//wp-events-plugin.com//6.4.6.4//EN
TZID:Europe/Paris
X-WR-TIMEZONE:Europe/Paris
BEGIN:VEVENT
UID:1295@citefertile.com
DTSTART;TZID=Europe/Paris:20251107T190000
DTEND;TZID=Europe/Paris:20251108T000000
DTSTAMP:20251027T115739Z
URL:https://citefertile.com/events/matin-a-la-source/
SUMMARY:Matin à la Source
DESCRIPTION:\n\n\n\n\n\n\n\n\n\n\n\n\n\n\nmatin. réinvente la fête en la 
 déplaçant aux premières heures du jour\, et du soir.Ici\, pas de soiré
 es\, mais des événements originaux où l'on apprend à danser autrement.
  La personne qui performe est dos au public\, ce qui lui permet de se conc
 entrer à 100%.\nBienveillance ! matin. refuse toute forme de discriminati
 on et prône le partage et l’ouverture.\n\nLe concept est simple : profi
 ter en écoutant de la musique électronique et en ayant conscience que c
 ’est un lieu de partage.\n\nC’est à la Source de la Cité Fertile que
  le jeune collectif parisien pose ses platines.Au programme : 4h de son av
 ec une curation de musiques électroniques pointue qui saura ravir ses ama
 teur.trice.s.\n\n\n\n\n\nLINE UP\n&gt\;Fiasko&gt\;Esté&gt\;acideplastique
 \n\n\n\n\n\n\n\n\n\n\n\n\n\n\n\n\n\n\n\n\n\n\n~~~~~~~ INFOS ~~~~~~~~\n\n
 📆 Vendredi 07 novembre 2025\n🕖 19:00 - 00:00\n📍 14 Av. Edouard Va
 illant\, 93500 Pantin\n🎟️ Entrée gratuite sur billetterie\n\n\n\n\n\
 n\n\n\n\n\n\n\n Quelques règles à respecter :\n- Le respect + la bienvei
 llance : chacun.e se doit de se montrer respectueux.se envers autrui (les 
 membres du staff\, les danseur.euses\, le voisinage)\, de prendre soin de 
 soi et des autres\n- La liberté : chacun.e doit se sentir libre d’être
  qui iel est\, de s’amuser sans être embêté.e\n- La tolérance : qu
 ’ici soit prônée la diversité ! L’ouverture n’est pas une option\
 , tous les genres\, tout.e.s les ethnies\, tou.te.s les religions sont les
  bienvenu.e.s\n- La sécurité : chacun.e est tenu.e à veiller à la séc
 urité de tou.te.sNous nous réservons le droit de refuser l’entrée/d
 ’exclure toute personne qui ne respecterait pas nos valeurs afin de pré
 server notre public.\n\n Site accessible aux personnes à mobilité rédui
 te\n
ATTACH;FMTTYPE=image/jpeg:https://citefertile.com/wp-content/uploads/2025/
 10/571151923_122151690368769913_2460283670801689811_n.jpg
END:VEVENT
BEGIN:VTIMEZONE
TZID:Europe/Paris
X-LIC-LOCATION:Europe/Paris
BEGIN:STANDARD
DTSTART:20251026T020000
TZOFFSETFROM:+0200
TZOFFSETTO:+0100
TZNAME:CET
END:STANDARD
END:VTIMEZONE
END:VCALENDAR