BEGIN:VCALENDAR
VERSION:2.0
PRODID:-//wp-events-plugin.com//6.4.6.4//EN
TZID:Europe/Paris
X-WR-TIMEZONE:Europe/Paris
BEGIN:VEVENT
UID:1303@citefertile.com
DTSTART;TZID=Europe/Paris:20251122T183000
DTEND;TZID=Europe/Paris:20251122T233000
DTSTAMP:20251105T161430Z
URL:https://citefertile.com/events/morning-glory-2/
SUMMARY:Morning Glory
DESCRIPTION:\n\n\n\n\n\n\n\n\n\n\n\n\n\n\n\n\nLe collectif Morninglory s'in
 vite à la Cité Fertile pour une soirée où la musique sera au cœur de 
 l’expérience.De la house à la minimale en passant par des styles plus 
 éclectiques. Un rendez-vous musical et communautaire dans l’un des tier
 s-lieux les plus emblématiques de Paris.\n\nInstagramhttps://www.instagra
 m.com/morninglory.paris/\nSoundcloudhttps://soundcloud.com/morninglory-ses
 sions\n\n\n\n\n\n\n\n\n\n\n\n\n\n\n\n\n\n\n\n\n\n\n\n\n\n\n~~~~~~~ INFOS ~
 ~~~~~~~\n\n📆 Samedi 22 novembre 2025\n🕖 18:30 - 23:30\n📍 14 Av. E
 douard Vaillant\, 93500 Pantin\n🎟️ Entrée à prix libre sur billette
 rie\n\n\n\n\n\n\n\n\n\n\n\n\n Quelques règles à respecter :\n- Le respec
 t + la bienveillance : chacun.e se doit de se montrer respectueux.se enver
 s autrui (les membres du staff\, les danseur.euses\, le voisinage)\, de pr
 endre soin de soi et des autres\n- La liberté : chacun.e doit se sentir l
 ibre d’être qui iel est\, de s’amuser sans être embêté.e\n- La tol
 érance : qu’ici soit prônée la diversité ! L’ouverture n’est pas
  une option\, tous les genres\, tout.e.s les ethnies\, tou.te.s les religi
 ons sont les bienvenu.e.s\n- La sécurité : chacun.e est tenu.e à veille
 r à la sécurité de tou.te.sNous nous réservons le droit de refuser l
 ’entrée/d’exclure toute personne qui ne respecterait pas nos valeurs 
 afin de préserver notre public.\n\n Site accessible aux personnes à mobi
 lité réduite\n
ATTACH;FMTTYPE=image/jpeg:https://citefertile.com/wp-content/uploads/2025/
 11/577611608_122238849620085142_1328152459445727210_n.jpg
END:VEVENT
BEGIN:VTIMEZONE
TZID:Europe/Paris
X-LIC-LOCATION:Europe/Paris
BEGIN:STANDARD
DTSTART:20251026T020000
TZOFFSETFROM:+0200
TZOFFSETTO:+0100
TZNAME:CET
END:STANDARD
END:VTIMEZONE
END:VCALENDAR