BEGIN:VCALENDAR
VERSION:2.0
PRODID:-//wp-events-plugin.com//6.4.6.4//EN
TZID:Europe/Paris
X-WR-TIMEZONE:Europe/Paris
BEGIN:VEVENT
UID:1276@citefertile.com
DTSTART;TZID=Europe/Paris:20251018T193000
DTEND;TZID=Europe/Paris:20251019T013000
DTSTAMP:20251014T123303Z
URL:https://citefertile.com/events/morning-glory/
SUMMARY:Morning glory
DESCRIPTION:\n\n\n\n\n\n\n\n\n\n\n\n\nLe collectif Morninglory investit la 
 Cité Fertile pour une soirée où la musique sera au cœur de l’expéri
 ence.\nDe la house à la minimale en passant par des styles plus éclectiq
 ues. Un rendez-vous musical et communautaire dans l’un des tiers-lieux l
 es plus emblématiques de Paris.\n\nInstagramhttps://www.instagram.com/mor
 ninglory.paris/\nSoundcloudhttps://soundcloud.com/morninglory-sessions\n\n
 \n\n\n\n\n\n\n\n\n\n~~~~~~~ INFOS ~~~~~~~~\n\n📆 Samedi 18 octobre 2025\
 n🕖 19h30-01h30\n📍 14 Av. Edouard Vaillant\, 93500 Pantin\n🎟️ En
 trée gratuite sur billetterie\n\n\n\n\n---------------------------------\
 n\n\n\n Quelques règles à respecter :\n- Le respect + la bienveillance :
  chacun.e se doit de se montrer respectueux.se envers autrui (les membres 
 du staff\, les danseur.euses\, le voisinage)\, de prendre soin de soi et d
 es autres\n- La liberté : chacun.e doit se sentir libre d’être qui iel
  est\, de s’amuser sans être embêté.e\n- La tolérance : qu’ici soi
 t prônée la diversité ! L’ouverture n’est pas une option\, tous les
  genres\, tout.e.s les ethnies\, tou.te.s les religions sont les bienvenu.
 e.s\n- La sécurité : chacun.e est tenu.e à veiller à la sécurité de 
 tou.te.sNous nous réservons le droit de refuser l’entrée/d’exclure t
 oute personne qui ne respecterait pas nos valeurs afin de préserver notre
  public.\n\n Site accessible aux personnes à mobilité réduite\n
ATTACH;FMTTYPE=image/jpeg:https://citefertile.com/wp-content/uploads/2025/
 09/550187116_122233109252085142_2282421703204836385_n.jpg
END:VEVENT
BEGIN:VTIMEZONE
TZID:Europe/Paris
X-LIC-LOCATION:Europe/Paris
BEGIN:DAYLIGHT
DTSTART:20250330T030000
TZOFFSETFROM:+0100
TZOFFSETTO:+0200
TZNAME:CEST
END:DAYLIGHT
END:VTIMEZONE
END:VCALENDAR