BEGIN:VCALENDAR
VERSION:2.0
PRODID:-//wp-events-plugin.com//6.4.6.4//EN
TZID:Europe/Paris
X-WR-TIMEZONE:Europe/Paris
BEGIN:VEVENT
UID:1297@citefertile.com
DTSTART;TZID=Europe/Paris:20251206T120000
DTEND;TZID=Europe/Paris:20251207T190000
DTSTAMP:20251028T120247Z
URL:https://citefertile.com/events/noel-rebelle-marche-de-noel-vegane/
SUMMARY:Noël Rebelle\, marché de Noël Végane
DESCRIPTION:La Cité de Noël\, le village de Noël XXL à la Cité Fertile
 \n❄️🎅🎄🎁 LA CITÉ DE NOËL\, LE VILLAGE DE NOËL XXL DE LA CIT
 É FERTILE - TOUS LES WEEK-ENDS DU 22 NOVEMBRE AU 21 DÉCEMBRE\nCadeaux in
 solites\, maxi espace de jeu\, cabane du Père Noël\, ateliers\, animatio
 ns festives\, performances musicales\, streetfood &amp\; buvette d'hiver\n
 —————————\n\nNoël Rebelle\, le marché de Noël végane
 \, revient pour une 2ᵉ édition à La Cité Fertile de Pantin ! Retrouve
 z de délicieux produits pour le réveillon et vos soirées raclettes\, de
 s créations de mode éthique\, artisanales et artistiques\, des livres de
  recettes à faire dédicacer sur place\, ainsi qu'une offre de street-foo
 d de Noël exceptionnelle.\nTout pour célébrer les fêtes\, sans faire l
 a fête aux animaux !\n\n----------- Restauration -----------\nService con
 tinu dès 12h\nJimmy's Street Food X New Roots\nMacadam Mia\nVeggitive\nV
 égéta'ly\nMon Liban\nBar de La Cité Fertile\nOptions sans gluten\n\n---
 -------------- Exposant·es -------------------\nNew Roots – Fromages à
  raclette et fondue\nLe Grand Bluff – "Foie gras"\, terrines végétales
  et sauces\nSauvagine – Vins véganes et bio\nVégéta'ly – Chocolater
 ie artisanale\nPure Cake – Gâteaux et chocolats artisanaux\nREEV – Ma
 roquinerie végane upcyclée\nAurora Chapon – Illustrations\nKelyrin –
  Illustrations à colorier\nAtelier Chiné - Bougies végétales coulées 
 dans des contenants de 2nde main\nMeanwhile Boutique – Cadeaux écorespo
 nsables\nLibrairie Flora Lit – Livres de recettes végétales\, BD sur l
 a cause animale\nAssociation L214\n\n\n---------- Rencontres dédicaces --
 --------\nSamedi 12 h-19 h\nAude Richard (The Greenquest) : Terroir Vegan\
 , Airfryer Vegan\n\nSamedi &amp\; dimanche\, 12 h-19 h\nAurora Chapon : Re
 Sisters\, Yoga Shalala\n\n-------------- Ateliers -------------\nDimanche\
 , 14 h - 15h30\nPixel Art\, avec Aurora Chapon\, illustratrice de ReSister
 s et Yoga Shalala.\nPour adultes et enfants accompagnés à partir de 4 an
 s. Matériel fourni sur place.\n\n-------------- Tombola --------Tentez de
  gagner un des 14 cadeaux offerts par les exposant·es en soutenant l'orga
 nisation du marché !Tirages au sort les 6 et 7 décembre à 18h.\n\n-----
 -------------------------------\nAvec le soutien de New Roots\n———
 —————\n🎁\nPLUS D'INFOS SUR LA CITÉ DE NOËL\n&gt\;&gt\; Par 
 ici\n🎟️ ENTRÉE LIBRE SUR LE SITE\n—————————\n👉I
 NFORMATIONS PRATIQUES\n🚲 Comment venir ?\nRER E Pantin (4 minutes à pi
 eds)\nMétro Quatre Chemins – ligne 7 (8 minutes à pieds) et Métro Hoc
 he – ligne 5 (10 minutes à pieds)\nTram 3 Ella Fitzgerald (5 minutes à
  pieds)\nBus 170\, 249\, 330 arrêt Jean Moulin\nParking à vélo à l’e
 ntrée du site.\nPas de parking voitures.\nParking PSH sur le site de la C
 ité Fertile.
ATTACH;FMTTYPE=image/jpeg:https://citefertile.com/wp-content/uploads/2025/
 10/574052609_1205345951646517_5178527936778567600_n.jpg
END:VEVENT
BEGIN:VTIMEZONE
TZID:Europe/Paris
X-LIC-LOCATION:Europe/Paris
BEGIN:STANDARD
DTSTART:20251026T020000
TZOFFSETFROM:+0200
TZOFFSETTO:+0100
TZNAME:CET
END:STANDARD
END:VTIMEZONE
END:VCALENDAR