BEGIN:VCALENDAR
VERSION:2.0
PRODID:-//wp-events-plugin.com//6.4.6.4//EN
TZID:Europe/Paris
X-WR-TIMEZONE:Europe/Paris
BEGIN:VEVENT
UID:1306@citefertile.com
DTSTART;TZID=Europe/Paris:20251212T190000
DTEND;TZID=Europe/Paris:20251213T000000
DTSTAMP:20251115T120220Z
URL:https://citefertile.com/events/on-verra-tanso/
SUMMARY:On verra & Tanso x Cité Fertile
DESCRIPTION:\n\n\n\n\n\n\n\n\n\n\n🔥 SAVE THE DATE : 12.12.25 🔥\n\nLe 
 vendredi 12 décembre\, On Verra et Tanso s’associent pour vous offrir u
 n moment hors du temps à La Cité Fertile.\n\nC’est gratuit\, parfait p
 our se poser\, prendre le temps… un petit before musical qui lance bien 
 le week-end.\n\nAu programme :\n• De 19h à minuit\, on investit la scè
 ne intérieure de la Cité Fertile.\n• Deux b2b qui vont faire monter le
  thermostat.\n• Une ambiance détente mais bien réchauffante.\n\n\n\n\n
 \n\n\n\n\n\n\n\n\n\n\n\n\nPensez à venir tôt : du gros son des 19h ! Vie
 ns pour la musique\, reste pour la vibe. Ça va être beau ❤️.\n\n\n\n
 \n\n\n\n\n\n\n\n\n\n\n\n\n\n\n\n\n\n~~~~~~~ INFOS ~~~~~~~~\n\n📆 Vendred
 i 12 décembre 2025\n🕖 19:00 - 00h\n📍 14 Av. Edouard Vaillant\, 9350
 0 Pantin\n🎟️ Entrée sur billetterie\n\n\n\n\n-----------------------
 ----------\n\n\n\n Quelques règles à respecter :\n- Le respect + la bien
 veillance : chacun.e se doit de se montrer respectueux.se envers autrui (l
 es membres du staff\, les danseur.euses\, le voisinage)\, de prendre soin 
 de soi et des autres\n- La liberté : chacun.e doit se sentir libre d’ê
 tre qui iel est\, de s’amuser sans être embêté.e\n- La tolérance : q
 u’ici soit prônée la diversité ! L’ouverture n’est pas une option
 \, tous les genres\, tout.e.s les ethnies\, tou.te.s les religions sont le
 s bienvenu.e.s\n- La sécurité : chacun.e est tenu.e à veiller à la sé
 curité de tou.te.sNous nous réservons le droit de refuser l’entrée/d
 ’exclure toute personne qui ne respecterait pas nos valeurs afin de pré
 server notre public.\n\nSite accessible aux personnes à mobilité réduit
 e\n
ATTACH;FMTTYPE=image/jpeg:https://citefertile.com/wp-content/uploads/2025/
 11/IMG_1536_nk3ogc.jpg.jpg
END:VEVENT
BEGIN:VTIMEZONE
TZID:Europe/Paris
X-LIC-LOCATION:Europe/Paris
BEGIN:STANDARD
DTSTART:20251026T020000
TZOFFSETFROM:+0200
TZOFFSETTO:+0100
TZNAME:CET
END:STANDARD
END:VTIMEZONE
END:VCALENDAR