BEGIN:VCALENDAR
VERSION:2.0
PRODID:-//wp-events-plugin.com//6.4.6.4//EN
TZID:Europe/Paris
X-WR-TIMEZONE:Europe/Paris
BEGIN:VEVENT
UID:1220@citefertile.com
DTSTART;TZID=Europe/Paris:20250904T193000
DTEND;TZID=Europe/Paris:20250905T013000
DTSTAMP:20250819T101620Z
URL:https://citefertile.com/events/open-air-2-steppers/
SUMMARY:Open air 2 Steppers
DESCRIPTION:\n\n\n\n\n\n\n\n\n\n\n\nGrosses basslines et équipe de choc po
 ur un Open Air UK Garage à la Cité Fertile ! \n\n2-Steppers\, le collect
 if pionnier du UK Garage Paris\, revient en plein air pour faire vibrer la
  Cité Fertile. A cette occasion nous invitons Don Yaya\, producteur doué
  et figure montante de la scène française\, Speed Garage\, Dubstep\, Fre
 nch House\, son seul mot d’ordre : le groove !\nEt comme toujours vous r
 etrouverez notre team de résidents\, les sales gosses du garage\, facéti
 eux mais prêt à mettre les mains dans le cambouis pour vous partager leu
 rs meilleurs bangers.\n\nLunettes vissées sur le nez\, sneakers aux pieds
 \, pas le temps de chiller\, venez faire skanker avec nous la Cité Fertil
 e.\n\n\n\n–– 𝗟𝗜𝗡𝗘 𝗨𝗣 ––\n2 Steppers\nDon Yaya\n\
 n\n\n\n\n\n\n\n~~~~~~~ INFOS ~~~~~~~~\n\n📆 Jeudi 04 septembre 2025\n
 🕖 19h30-01h30\n📍 14 Av. Edouard Vaillant\, 93500 Pantin\n🎟️ Ent
 rée gratuite sur billetterie\n\n\n\n\n---------------------------------\n
 \n\n\n Quelques règles à respecter :\n- Le respect + la bienveillance : 
 chacun.e se doit de se montrer respectueux.se envers autrui (les membres d
 u staff\, les danseur.euses\, le voisinage)\, de prendre soin de soi et de
 s autres\n- La liberté : chacun.e doit se sentir libre d’être qui iel 
 est\, de s’amuser sans être embêté.e\n- La tolérance : qu’ici soit
  prônée la diversité ! L’ouverture n’est pas une option\, tous les 
 genres\, tout.e.s les ethnies\, tou.te.s les religions sont les bienvenu.e
 .s\n- La sécurité : chacun.e est tenu.e à veiller à la sécurité de t
 ou.te.sNous nous réservons le droit de refuser l’entrée/d’exclure to
 ute personne qui ne respecterait pas nos valeurs afin de préserver notre 
 public.\n\n Site accessible aux personnes à mobilité réduite\n
ATTACH;FMTTYPE=image/jpeg:https://citefertile.com/wp-content/uploads/2025/
 08/530423637_1307410158062861_8195845710615785810_n.jpg
END:VEVENT
BEGIN:VTIMEZONE
TZID:Europe/Paris
X-LIC-LOCATION:Europe/Paris
BEGIN:DAYLIGHT
DTSTART:20250330T030000
TZOFFSETFROM:+0100
TZOFFSETTO:+0200
TZNAME:CEST
END:DAYLIGHT
END:VTIMEZONE
END:VCALENDAR