BEGIN:VCALENDAR
VERSION:2.0
PRODID:-//wp-events-plugin.com//6.4.6.4//EN
TZID:Europe/Paris
X-WR-TIMEZONE:Europe/Paris
BEGIN:VEVENT
UID:1218@citefertile.com
DTSTART;TZID=Europe/Paris:20250828T193000
DTEND;TZID=Europe/Paris:20250829T013000
DTSTAMP:20250819T093111Z
URL:https://citefertile.com/events/open-air-business-is-business/
SUMMARY:Open air Business is business
DESCRIPTION:\n\n\n\n\n\n\n\n\n\n\n\nL'été touche à sa fin\, mais le fun 
 ne fait que commencer !\n\n\nDeeper Horizons™ fait sa rentrée le 28 ao
 ût avec un événement exclusif\, gratuit et ouvert à tous. tes à la Ci
 té Fertile.Nous aurons le plaisir d’y accueillir nos guests pour des DJ
  sets en plein air\, dans une ambiance unique.\nBusiness is Business : un 
 line-up composé uniquement de B2B chacun plus intense que le précédent.
 \n\n\n–– 𝗟𝗜𝗡𝗘 𝗨𝗣 ––\n- Ronare\n- Violet Indigo\n
 - Noëline\n- Hal Guernon\n- @system.sampler\n- stuckinwaveforms\n\n\n\n\n
 \n\n\n\n~~~~~~~ INFOS ~~~~~~~~\n\n📆 Jeudi 28 août 2025\n🕖 19:30 - 0
 1:30\n📍 14 Av. Edouard Vaillant\, 93500 Pantin\n🎟️ Entrée gratuit
 e sur billetterie\n\n\n\n\n---------------------------------\n\n\n\n Quelq
 ues règles à respecter :\n- Le respect + la bienveillance : chacun.e se 
 doit de se montrer respectueux.se envers autrui (les membres du staff\, le
 s danseur.euses\, le voisinage)\, de prendre soin de soi et des autres\n- 
 La liberté : chacun.e doit se sentir libre d’être qui iel est\, de s
 ’amuser sans être embêté.e\n- La tolérance : qu’ici soit prônée 
 la diversité ! L’ouverture n’est pas une option\, tous les genres\, t
 out.e.s les ethnies\, tou.te.s les religions sont les bienvenu.e.s\n- La s
 écurité : chacun.e est tenu.e à veiller à la sécurité de tou.te.sNou
 s nous réservons le droit de refuser l’entrée/d’exclure toute person
 ne qui ne respecterait pas nos valeurs afin de préserver notre public.\n\
 n Site accessible aux personnes à mobilité réduite\n
ATTACH;FMTTYPE=image/jpeg:https://citefertile.com/wp-content/uploads/2025/
 08/527704541_1044609124527421_2144218784252236018_n.jpg
END:VEVENT
BEGIN:VTIMEZONE
TZID:Europe/Paris
X-LIC-LOCATION:Europe/Paris
BEGIN:DAYLIGHT
DTSTART:20250330T030000
TZOFFSETFROM:+0100
TZOFFSETTO:+0200
TZNAME:CEST
END:DAYLIGHT
END:VTIMEZONE
END:VCALENDAR