BEGIN:VCALENDAR
VERSION:2.0
PRODID:-//wp-events-plugin.com//6.4.6.4//EN
TZID:Europe/Paris
X-WR-TIMEZONE:Europe/Paris
BEGIN:VEVENT
UID:832@citefertile.com
DTSTART;TZID=Europe/Paris:20250712T150000
DTEND;TZID=Europe/Paris:20250713T013000
DTSTAMP:20250630T084253Z
URL:https://citefertile.com/events/open-air-claclaclac/
SUMMARY:Open air Claclaclac
DESCRIPTION:\n\n\n\n\n\n\n\n\n\n\n\nccc ! 5 ans x La Cité Fertile\nToute l
 ’équipe est de retour sans bonne raison\, si ce n’est pour célébrer
  5 ans de raves intenses\, de fous rires et d’amitiés solides.\nPuisque
  5 ans\, ça compte\, rejoignez-nous à La Cité Fertile le 12 juillet à 
 partir de 15h\, avec la crème de la crème : Dolomea (live)\, Von Riu\, J
 oe Palpite\, Gimea et Duane — le tout porté par Ballistic Soundsystem.\
 n\n\n\n\n\n\n\n\n\n\n~~~~~~~ INFOS ~~~~~~~~\n\n📆 Samedi 12 juillet 2025
 \n🕖 15h-1h30\n📍 14 Av. Edouard Vaillant\, 93500 Pantin\n🎟️ Entr
 ée gratuite sur billetterie\n\n\n\n\n---------------------------------\n\
 n\n\n Quelques règles à respecter :\n- Le respect + la bienveillance : c
 hacun.e se doit de se montrer respectueux.se envers autrui (les membres du
  staff\, les danseur.euses\, le voisinage)\, de prendre soin de soi et des
  autres\n- La liberté : chacun.e doit se sentir libre d’être qui iel e
 st\, de s’amuser sans être embêté.e\n- La tolérance : qu’ici soit 
 prônée la diversité ! L’ouverture n’est pas une option\, tous les g
 enres\, tout.e.s les ethnies\, tou.te.s les religions sont les bienvenu.e.
 s\n- La sécurité : chacun.e est tenu.e à veiller à la sécurité de to
 u.te.sNous nous réservons le droit de refuser l’entrée/d’exclure tou
 te personne qui ne respecterait pas nos valeurs afin de préserver notre p
 ublic.\n\n Site accessible aux personnes à mobilité réduite\n
ATTACH;FMTTYPE=image/jpeg:https://citefertile.com/wp-content/uploads/2025/
 06/ccc5years-banner-citA©fertile.png
END:VEVENT
BEGIN:VTIMEZONE
TZID:Europe/Paris
X-LIC-LOCATION:Europe/Paris
BEGIN:DAYLIGHT
DTSTART:20250330T030000
TZOFFSETFROM:+0100
TZOFFSETTO:+0200
TZNAME:CEST
END:DAYLIGHT
END:VTIMEZONE
END:VCALENDAR