BEGIN:VCALENDAR
VERSION:2.0
PRODID:-//wp-events-plugin.com//6.4.6.4//EN
TZID:Europe/Paris
X-WR-TIMEZONE:Europe/Paris
BEGIN:VEVENT
UID:1215@citefertile.com
DTSTART;TZID=Europe/Paris:20250830T190000
DTEND;TZID=Europe/Paris:20250831T013000
DTSTAMP:20250729T141331Z
URL:https://citefertile.com/events/open-air-de-la-groove/
SUMMARY:Open air de la groove
DESCRIPTION:\n\n\n\n\n\n\n\n\n\n\n💥De La Groove de retour en Open Air !!
 \n\nUn mélange de beats électroniques bruts et puissants\, et de la chal
 eur des vibes soul\, jazz\, disco\, voir même gospel.\n\nParfois plus voc
 al\, parfois plus deep\, parfois Old School\, parfois fraîchement sortie\
 , sur vinyl ou sur MP3\, mais toujours entrainante et émouvante\; qui de 
 mieux pour (re)découvrir la House que le collectif De La Groove et ses 3 
 DJ/Selector/Producteurs du soir :\n\n🎧Chinau\, qui poursuit son World T
 our (Italy\, Suisse\, Maroc\, Georgie\,...) à la cité fertile ! https://
 www.delagrooverecords.com/chinau\n\n🎧 Knuckle G\, et son projet Tales o
 f G qui a reçu un très bon accueil (Laurent Garnier\, Blessed Madonna\,.
 ..) https://www.delagrooverecords.com/knuckle-g\n\n🎧 Larry G\, qui a so
 rti son premier EP en Mars validé par des beaux noms (FIP radio\, Demuja\
 ,...) https://www.delagrooverecords.com/larry-g\n\n\n\n\n\n\n\n\n\n~~~~~~~
  INFOS ~~~~~~~~\n\n📆 Samedi 30 août 2025\n🕖 19h – 1h30\n📍 14 A
 v. Edouard Vaillant\, 93500 Pantin\n🎟️ Entrée gratuite sur billetter
 ie\n\n\n\n\n---------------------------------\n\n\n\n Quelques règles à 
 respecter :\n- Le respect + la bienveillance : chacun.e se doit de se mont
 rer respectueux.se envers autrui (les membres du staff\, les danseur.euses
 \, le voisinage)\, de prendre soin de soi et des autres\n- La liberté : c
 hacun.e doit se sentir libre d’être qui iel est\, de s’amuser sans ê
 tre embêté.e\n- La tolérance : qu’ici soit prônée la diversité ! L
 ’ouverture n’est pas une option\, tous les genres\, tout.e.s les ethni
 es\, tou.te.s les religions sont les bienvenu.e.s\n- La sécurité : chacu
 n.e est tenu.e à veiller à la sécurité de tou.te.sNous nous réservons
  le droit de refuser l’entrée/d’exclure toute personne qui ne respect
 erait pas nos valeurs afin de préserver notre public.\n\n Site accessible
  aux personnes à mobilité réduite\n
ATTACH;FMTTYPE=image/jpeg:https://citefertile.com/wp-content/uploads/2025/
 07/SHOTGUN_cqn3y7.jpg
END:VEVENT
BEGIN:VTIMEZONE
TZID:Europe/Paris
X-LIC-LOCATION:Europe/Paris
BEGIN:DAYLIGHT
DTSTART:20250330T030000
TZOFFSETFROM:+0100
TZOFFSETTO:+0200
TZNAME:CEST
END:DAYLIGHT
END:VTIMEZONE
END:VCALENDAR