BEGIN:VCALENDAR
VERSION:2.0
PRODID:-//wp-events-plugin.com//6.4.6.4//EN
TZID:Europe/Paris
X-WR-TIMEZONE:Europe/Paris
BEGIN:VEVENT
UID:1222@citefertile.com
DTSTART;TZID=Europe/Paris:20250906T193000
DTEND;TZID=Europe/Paris:20250907T013000
DTSTAMP:20250822T102024Z
URL:https://citefertile.com/events/open-air-disco-seine-balearique/
SUMMARY:Open air Disco Seine Balearique
DESCRIPTION:\n\n\n\n\n\n\n\n\n\n\nGRAND OPEN AIR DISCO ET BALEARIQUE GRATUI
 T\nLa Seine Baléarique organise un super open air festif à la rentrée 
 — une nuit gratuite et vibrante où fertiliseront l’esprit libre des s
 oirées LOFT new-yorkaise et la douceur solaire des Baléares. Imaginée a
 vec Lapesh &amp\; JPYE\, cette édition unique sera portée par deux figur
 es des très respectées soirées Loft Babies — Alex From Tokyo &amp\; D
 anny Fortunato — dans une cadence envoûtante entre disco cosmique\, jaz
 z-funk de dancefloor\, grooves de mers tropicales\, solaires et hypnotique
 s.\n\n\n\nÀ ciel ouvert (ou sous le magnifique préau en back up)\, ambia
 nce chaleureuse\, lumière naturelle\, food\, bar\, chill\, et pour les di
 ggers : une sélection de vinyles à petits prix pour faire durer le voyag
 e jusque chez toi.\n\nEntrée libre – viens comme tu es\, reste aussi lo
 ngtemps que tu veux.\nLoft disco outside ! la resisdance continue !\n\n\n\
 n\n\n\n\n\n~~~~~~~ INFOS ~~~~~~~~\n\n📆 Samedi 06 septembre 2025\n🕖 1
 9:30 - 01:30\n📍 14 Av. Edouard Vaillant\, 93500 Pantin\n🎟️ Entrée
  gratuite sur billetterie\n\n\n\n\n---------------------------------\n\n\n
 \n Quelques règles à respecter :\n- Le respect + la bienveillance : chac
 un.e se doit de se montrer respectueux.se envers autrui (les membres du st
 aff\, les danseur.euses\, le voisinage)\, de prendre soin de soi et des au
 tres\n- La liberté : chacun.e doit se sentir libre d’être qui iel est\
 , de s’amuser sans être embêté.e\n- La tolérance : qu’ici soit pr
 ônée la diversité ! L’ouverture n’est pas une option\, tous les gen
 res\, tout.e.s les ethnies\, tou.te.s les religions sont les bienvenu.e.s\
 n- La sécurité : chacun.e est tenu.e à veiller à la sécurité de tou.
 te.sNous nous réservons le droit de refuser l’entrée/d’exclure toute
  personne qui ne respecterait pas nos valeurs afin de préserver notre pub
 lic.\n\n Site accessible aux personnes à mobilité réduite\n
ATTACH;FMTTYPE=image/jpeg:https://citefertile.com/wp-content/uploads/2025/
 08/La-Seine-Balearique-5-Alex-From-Tokyo-landscape-1.png
END:VEVENT
BEGIN:VTIMEZONE
TZID:Europe/Paris
X-LIC-LOCATION:Europe/Paris
BEGIN:DAYLIGHT
DTSTART:20250330T030000
TZOFFSETFROM:+0100
TZOFFSETTO:+0200
TZNAME:CEST
END:DAYLIGHT
END:VTIMEZONE
END:VCALENDAR