BEGIN:VCALENDAR
VERSION:2.0
PRODID:-//wp-events-plugin.com//6.4.6.4//EN
TZID:Europe/Paris
X-WR-TIMEZONE:Europe/Paris
BEGIN:VEVENT
UID:836@citefertile.com
DTSTART;TZID=Europe/Paris:20250703T193000
DTEND;TZID=Europe/Paris:20250704T013000
DTSTAMP:20250702T093008Z
URL:https://citefertile.com/events/open-air-dykesweapon-2/
SUMMARY:Open air : Dykesweapon
DESCRIPTION:\n\n\n\n\n\n\n\n\n\n\nOpen air Dykesweapon\nRendez vous jeudi s
 oir pour un dj set au soleil aux sonorités hardcore et gabber !\n\n&nbsp\
 ;\n\n\n\n\n\n\n~~~~~~~ INFOS ~~~~~~~~\n\n🕦 19H30-1H30\n📍 14 Av. Edou
 ard Vaillant\, 93500 Pantin\n🎟️ Entrée libre\n\n\n\n\n--------------
 -------------------\n\n\n\n Quelques règles à respecter :\n- Le respect 
 + la bienveillance : chacun.e se doit de se montrer respectueux.se envers 
 autrui (les membres du staff\, les danseur.euses\, le voisinage)\, de pren
 dre soin de soi et des autres\n- La liberté : chacun.e doit se sentir lib
 re d’être qui iel est\, de s’amuser sans être embêté.e\n- La tolé
 rance : qu’ici soit prônée la diversité ! L’ouverture n’est pas u
 ne option\, tous les genres\, tout.e.s les ethnies\, tou.te.s les religion
 s sont les bienvenu.e.s\n- La sécurité : chacun.e est tenu.e à veiller 
 à la sécurité de tou.te.sNous nous réservons le droit de refuser l’e
 ntrée/d’exclure toute personne qui ne respecterait pas nos valeurs afin
  de préserver notre public.\n\n Site accessible aux personnes à mobilit
 é réduite\n
ATTACH;FMTTYPE=image/jpeg:https://citefertile.com/wp-content/uploads/2025/
 07/dykes_3juillet-scaled-e1751448580485.jpg
END:VEVENT
BEGIN:VTIMEZONE
TZID:Europe/Paris
X-LIC-LOCATION:Europe/Paris
BEGIN:DAYLIGHT
DTSTART:20250330T030000
TZOFFSETFROM:+0100
TZOFFSETTO:+0200
TZNAME:CEST
END:DAYLIGHT
END:VTIMEZONE
END:VCALENDAR