BEGIN:VCALENDAR
VERSION:2.0
PRODID:-//wp-events-plugin.com//6.4.6.4//EN
TZID:Europe/Paris
X-WR-TIMEZONE:Europe/Paris
BEGIN:VEVENT
UID:835@citefertile.com
DTSTART;TZID=Europe/Paris:20250726T193000
DTEND;TZID=Europe/Paris:20250727T013000
DTSTAMP:20250702T092048Z
URL:https://citefertile.com/events/open-air-la-butte/
SUMMARY:Open air : La Butte
DESCRIPTION:\n\n\n\n\n\n\n\n\n\n\nLa Butte pose ses platines à La Cité Fe
 rtile pour un open air sous les étoiles. Viens danser sur des grooves cha
 uds !\n🎧 Au programme : 3 DJ résidents aux commandes :\n🔥 Daadi –
  Énergie débordante et sélections house\, UK Garage et Dark Disco qui s
 urprennent à chaque set.\n🔥 Estelle – Un mélange élégant de house
 \, jazz et gospel\, toujours plein de groove et de feeling.\n🔥 Simon 
 – Entre deep immersive\, acid-house et drum &amp\; bass\, il balance des
  sets pointus et efficaces.\n💥 Pourquoi venir ? Parce qu’on a déjà 
 retourné le Badaboum\, le Cabaret Sauvage ou encore le Petit Bain\, et qu
 e ça s’annonce comme une des dernières fêtes à La Cité Fertile\, qu
 i fermera ses portes en septembre. La Butte\, c’est notre nouveau nom\, 
 nos nouvelles envies\, mais toujours cette même passion pour le partage e
 t la fête.\nEntrée libre – bar\, food\, &amp\; dancefloor.\n\n\n\n\n\n
 \n~~~~~~~ INFOS ~~~~~~~~\n\n🕦 19H30-1H30\n📍 14 Av. Edouard Vaillant\
 , 93500 Pantin\n🎟️ Gratuit sur inscription\n\n\n\n\n-----------------
 ----------------\n\n\n\n Quelques règles à respecter :\n- Le respect + l
 a bienveillance : chacun.e se doit de se montrer respectueux.se envers aut
 rui (les membres du staff\, les danseur.euses\, le voisinage)\, de prendre
  soin de soi et des autres\n- La liberté : chacun.e doit se sentir libre 
 d’être qui iel est\, de s’amuser sans être embêté.e\n- La toléran
 ce : qu’ici soit prônée la diversité ! L’ouverture n’est pas une 
 option\, tous les genres\, tout.e.s les ethnies\, tou.te.s les religions s
 ont les bienvenu.e.s\n- La sécurité : chacun.e est tenu.e à veiller à 
 la sécurité de tou.te.sNous nous réservons le droit de refuser l’entr
 ée/d’exclure toute personne qui ne respecterait pas nos valeurs afin de
  préserver notre public.\n\n Site accessible aux personnes à mobilité r
 éduite\n
ATTACH;FMTTYPE=image/jpeg:https://citefertile.com/wp-content/uploads/2025/
 07/La-citeI-Fertile-format-event-1.png
END:VEVENT
BEGIN:VTIMEZONE
TZID:Europe/Paris
X-LIC-LOCATION:Europe/Paris
BEGIN:DAYLIGHT
DTSTART:20250330T030000
TZOFFSETFROM:+0100
TZOFFSETTO:+0200
TZNAME:CEST
END:DAYLIGHT
END:VTIMEZONE
END:VCALENDAR