BEGIN:VCALENDAR
VERSION:2.0
PRODID:-//wp-events-plugin.com//6.4.6.4//EN
TZID:Europe/Paris
X-WR-TIMEZONE:Europe/Paris
BEGIN:VEVENT
UID:782@citefertile.com
DTSTART;TZID=Europe/Paris:20250517T193000
DTEND;TZID=Europe/Paris:20250518T013000
DTSTAMP:20250428T132913Z
URL:https://citefertile.com/events/open-air-les-minards-x-soupe-machine/
SUMMARY:Open air : Les Minards x Soupe Machine
DESCRIPTION:\n\n\n\n\n\n\n\nAprès une première soirée en septembre les M
 inards ré-investissent la Cité Fertile pour un open air géant avec le g
 énial collectif Soupe Machine. A un mois de la deuxième édition du fest
 ival venez vous retrouver à la Cité Fertile le samedi 17 mai de 19h30 à
  1h30.\n\nAu programme 6h30 autour de la bass music et de la dub sur un so
 undsystem spécialement renforcé pour l'occasion. En ouverture le génial
  Mains Courantes fondateur de Tweak Soundsytem viendra mettre à l'épreuv
 e le soundsytem des Minards avec une selection reggae/dub bien pointue. Gu
 ssi Goussa\, programmateur des Minards avant de laisser place aux résiden
 ts de Soupe Machine.\n\n\n\n~~~~~~~ INFOS ~~~~~~~~\n🕦 19H30-1H30\n📍 
 14 Av. Edouard Vaillant\, 93500 Pantin\n🎟️ Entrée gratuite sur bille
 tterie\n\n\n\n\n---------------------------------\n\n\n\n Quelques règles
  à respecter :\n- Le respect + la bienveillance : chacun.e se doit de se 
 montrer respectueux.se envers autrui (les membres du staff\, les danseur.e
 uses\, le voisinage)\, de prendre soin de soi et des autres\n- La liberté
  : chacun.e doit se sentir libre d’être qui iel est\, de s’amuser san
 s être embêté.e\n- La tolérance : qu’ici soit prônée la diversité
  ! L’ouverture n’est pas une option\, tous les genres\, tout.e.s les e
 thnies\, tou.te.s les religions sont les bienvenu.e.s\n- La sécurité : c
 hacun.e est tenu.e à veiller à la sécurité de tou.te.sNous nous réser
 vons le droit de refuser l’entrée/d’exclure toute personne qui ne res
 pecterait pas nos valeurs afin de préserver notre public.\n\n Site access
 ible aux personnes à mobilité réduite\n
ATTACH;FMTTYPE=image/jpeg:https://citefertile.com/wp-content/uploads/2025/
 04/Capture-decran-2025-04-28-a-15.22.05.png
END:VEVENT
BEGIN:VTIMEZONE
TZID:Europe/Paris
X-LIC-LOCATION:Europe/Paris
BEGIN:DAYLIGHT
DTSTART:20250330T030000
TZOFFSETFROM:+0100
TZOFFSETTO:+0200
TZNAME:CEST
END:DAYLIGHT
END:VTIMEZONE
END:VCALENDAR