BEGIN:VCALENDAR
VERSION:2.0
PRODID:-//wp-events-plugin.com//6.4.6.4//EN
TZID:Europe/Paris
X-WR-TIMEZONE:Europe/Paris
BEGIN:VEVENT
UID:838@citefertile.com
DTSTART;TZID=Europe/Paris:20250822T180000
DTEND;TZID=Europe/Paris:20250823T010000
DTSTAMP:20250708T135140Z
URL:https://citefertile.com/events/open-air-loophole/
SUMMARY:Open air Loophole
DESCRIPTION:\n\n\n\n\n\n\n\n\n\n\nAprès une édition anniversaire inoublia
 ble en warehouse\, Loophole revient pour un nouveau format open air\, en j
 ournée et en plein été.\nRendez-vous le vendredi 22 août à La Cité F
 ertile pour célébrer l’été en musique\, entouré.e.s d’artistes qu
 i nous sont cher·es et qui feront vibrer le lieu de leurs univers techno 
 singuliers\, pour un moment de partage\, de danse et de retrouvailles.\nCe
  sera aussi une des dernières fois où vous pourrez profiter de ce tiers 
 lieu qui a été emblématique de la scène parisienne.\nL’entrée est 
 à prix participatif\, pensez à réserver votre billet gratuit.\n\n––
  𝗟𝗜𝗡𝗘 𝗨𝗣 ––\nNeary b2b Sense?\nMasst\nRedluved\nSeig
 g\nValinar\n\n\n\n\n\n\n\n\n~~~~~~~ INFOS ~~~~~~~~\n\n📆 Vendredi 22 ao
 ût 2025\n🕖 18:00 - 01:00\n📍 14 Av. Edouard Vaillant\, 93500 Pantin\
 n🎟️ Entrée gratuite sur billetterie\n\n\n\n\n-----------------------
 ----------\n\n\n\n Quelques règles à respecter :\n- Le respect + la bien
 veillance : chacun.e se doit de se montrer respectueux.se envers autrui (l
 es membres du staff\, les danseur.euses\, le voisinage)\, de prendre soin 
 de soi et des autres\n- La liberté : chacun.e doit se sentir libre d’ê
 tre qui iel est\, de s’amuser sans être embêté.e\n- La tolérance : q
 u’ici soit prônée la diversité ! L’ouverture n’est pas une option
 \, tous les genres\, tout.e.s les ethnies\, tou.te.s les religions sont le
 s bienvenu.e.s\n- La sécurité : chacun.e est tenu.e à veiller à la sé
 curité de tou.te.sNous nous réservons le droit de refuser l’entrée/d
 ’exclure toute personne qui ne respecterait pas nos valeurs afin de pré
 server notre public.\n\n Site accessible aux personnes à mobilité rédui
 te\n
ATTACH;FMTTYPE=image/jpeg:https://citefertile.com/wp-content/uploads/2025/
 07/FACEBOOK_CITEFERTILE.jpg
END:VEVENT
BEGIN:VTIMEZONE
TZID:Europe/Paris
X-LIC-LOCATION:Europe/Paris
BEGIN:DAYLIGHT
DTSTART:20250330T030000
TZOFFSETFROM:+0100
TZOFFSETTO:+0200
TZNAME:CEST
END:DAYLIGHT
END:VTIMEZONE
END:VCALENDAR